BEGIN:VCALENDAR
VERSION:2.0
PRODID:-//wp-events-plugin.com//7.0.5//EN
TZID:America/Los_Angeles
X-WR-TIMEZONE:America/Los_Angeles
BEGIN:VEVENT
UID:943@onc-pdx.org
DTSTART;TZID=America/Los_Angeles:20221001T090000
DTEND;TZID=America/Los_Angeles:20221001T160000
DTSTAMP:20220813T164313Z
URL:https://onc-pdx.org/events/tilly-jane-wood-haul-3/
SUMMARY:Tilly Jane Wood Haul
DESCRIPTION:Tilly Jane Wood Haul-2022 Join us for the annual Wood Haul to l
 oad up the cabins for the winter. No sign up needed. \n\nWhere: Meet at Ti
 lly Jane Guard Station\, Mt Hood. Park at the TJ Campground\n\nWhat:\n\n 	
 Haul &amp\; stack winter firewood\n 	Buck &amp\; stack downed firewood\n 	
 Annual deep cleaning of both cabins\n\nPerks:\n\n 	Volunteers earn priorit
 y for a free weekend stay at the A-Frame (Jan – Apr ONC weekends)\n 	Be
 verages provided by Solera Brewery\n 	Free gear raffle by Gerber Gear\, NW
  Avalanche + more\n 	Overnight camping is available in the TJ campground a
 nd both TJ cabins.\n 	USFS FIRE RESTRICTIONS WILL APPLY\n\nBring:\n\n 	Stu
 rdy work boots\, gloves\, hat\n 	Sun Protection\n 	Ear &amp\; Eye Protecti
 on\n 	Cold weather clothing\n 	Chainsaw (if you have one)\n 	Lunch / Snack
 s / Water Container\n 	Face Mask\n\nEmail reservations@tillyjanecabins.org
  for more information
CATEGORIES:Tilly Jane
END:VEVENT
BEGIN:VTIMEZONE
TZID:America/Los_Angeles
X-LIC-LOCATION:America/Los_Angeles
BEGIN:DAYLIGHT
DTSTART:20220313T030000
TZOFFSETFROM:-0800
TZOFFSETTO:-0700
TZNAME:PDT
END:DAYLIGHT
END:VTIMEZONE
END:VCALENDAR