BEGIN:VCALENDAR
VERSION:2.0
PRODID:-//wp-events-plugin.com//7.0.5//EN
TZID:America/Los_Angeles
X-WR-TIMEZONE:America/Los_Angeles
BEGIN:VEVENT
UID:820@onc-pdx.org
DTSTART;TZID=America/Los_Angeles:20210710T090000
DTEND;TZID=America/Los_Angeles:20210710T160000
DTSTAMP:20210621T181448Z
URL:https://onc-pdx.org/events/tilly-jane-summer-work-party/
SUMMARY:Tilly Jane Summer Work Party
DESCRIPTION:Join us and the all-volunteer\, non-profit\, Oregon Nordic Club
 \, for our Summer Cabin Maintenance Work Party.&nbsp\; As most of you know
 \, there is ongoing annual maintenance to keep these cabins open and ready
  for the next high use Winter season.&nbsp\;\n\nMore info here on how to h
 elp:&nbsp\; TJ Summer Work Party
CATEGORIES:Trail Tending
LOCATION:Tilly Jane Trailhead\, Cloud Cap Rd.\, Cooper Spur\, OR\, 97007\, 
 United States
X-APPLE-STRUCTURED-LOCATION;VALUE=URI;X-ADDRESS=Cloud Cap Rd.\, Cooper Spur
 \, OR\, 97007\, United States;X-APPLE-RADIUS=100;X-TITLE=Tilly Jane Trailh
 ead:geo:0,0
END:VEVENT
BEGIN:VTIMEZONE
TZID:America/Los_Angeles
X-LIC-LOCATION:America/Los_Angeles
BEGIN:DAYLIGHT
DTSTART:20210314T030000
TZOFFSETFROM:-0800
TZOFFSETTO:-0700
TZNAME:PDT
END:DAYLIGHT
END:VTIMEZONE
END:VCALENDAR