BEGIN:VCALENDAR
VERSION:2.0
PRODID:-//wp-events-plugin.com//7.0.5//EN
TZID:America/Los_Angeles
X-WR-TIMEZONE:America/Los_Angeles
BEGIN:VEVENT
UID:965@onc-pdx.org
DTSTART;TZID=America/Los_Angeles;VALUE=DATE:20220930
DTEND;TZID=America/Los_Angeles;VALUE=DATE:20221001
DTSTAMP:20220926T175940Z
URL:https://onc-pdx.org/events/tilly-jane-ski-trail-upper-section/
SUMMARY:Trail Tending - Tilly Jane Ski Trail Upper Section
DESCRIPTION:Join us to help maintain the ski trail to Tilly Jane. Meet at T
 illy Jane Campground at 1:30 PM Friday\, Sept. 30.&nbsp\; We will work for
  3-4 hours. Then stay overnight for the wood haul on Saturday\, driving ho
 me Saturday afternoon.\n\nMost trail tending work parties involve light br
 ushing\, tree limbing\, and the hanging of blue diamonds.&nbsp\; We'll sup
 ply the tools and hardhats. Sign up below - select the number of spaces fo
 r all of the people in your party and provide their contact information wh
 ere indicated.\n\nWhat to bring: Bring a comfortable pair of gloves to pro
 tect your hands (gardening gloves work well). Wear long pants\, a long sle
 eved shirt\, hiking boots and protective eye wear.&nbsp\; Have bug repelle
 nt and sunscreen. Bring a COVID-19 mask. Finally\, bring a lunch\, snacks 
 and lots of water\, as you are sure to work up an appetite.\n\nFor overnig
 ht stay\, those that want to sleep in the A-Frame need a pad and a sleepin
 g bag\, or bring a tent for the campground.&nbsp\; Bring food and drinks f
 or meals (dinner and breakfast)\, stove and WARM clothes.&nbsp\;\n\nFor mo
 re info\, contact the leader: Ken Wenzel 503-729-6571 (call or text) skiwe
 nzel@hotmail.com
CATEGORIES:Tilly Jane,Trail Tending
END:VEVENT
BEGIN:VTIMEZONE
TZID:America/Los_Angeles
X-LIC-LOCATION:America/Los_Angeles
BEGIN:DAYLIGHT
DTSTART:20220313T030000
TZOFFSETFROM:-0800
TZOFFSETTO:-0700
TZNAME:PDT
END:DAYLIGHT
END:VTIMEZONE
END:VCALENDAR