BEGIN:VCALENDAR
VERSION:2.0
PRODID:-//wp-events-plugin.com//7.0.5//EN
TZID:America/Los_Angeles
X-WR-TIMEZONE:America/Los_Angeles
BEGIN:VEVENT
UID:795@onc-pdx.org
DTSTART;TZID=America/Los_Angeles;VALUE=DATE:20210122
DTEND;TZID=America/Los_Angeles;VALUE=DATE:20210125
DTSTAMP:20201103T210550Z
URL:https://onc-pdx.org/events/tilly-jane-guard-station-mt-hood-or-7/
SUMMARY:Tilly Jane Guard Station\, Mt Hood\, OR
DESCRIPTION:Intermediate Backcountry Ski\n\nWe’ll backcountry ski to the 
 ONC-PDX managed cabin on the Northeast side of Mt. Hood\, a 3 mile ski wit
 h a 1\,900-foot gain up the Tilly Jane Ski Trail to the cabin at 5\,700 fe
 et elevation. Participants carry their own gear\, including sleeping bags 
 and food for all meals. There are sleeping pads at the cabin (you might br
 ing a cover as they are foam and can be dirty.&nbsp\; We have a stove for 
 cooking meals and heating water. Participants can carry their own cooking 
 pots although there are some at the cabin. Experienced intermediate skiing
  skills with turning ability\, good physical condition and navigation/rout
 e finding skills using map\, compass or GPS. Climbing skins are REQUIRED.\
 n\nTrip Limit: 4 max\, Open to ONC members only with preference given to T
 illy Jane volunteers (Reduced Capacity due to COVID)\nCost: Free (another 
 club benefit). You must be an ONC member to sign up for this trip.\nFor mo
 re info\, please e-mail: reservations@tillyjanecabins.org.
CATEGORIES:Backcountry Ski/Telemarking,Cross Country Ski,Snowshoe
LOCATION:Tilly Jane Trailhead\, Cooper Spur Rd\, Cooper Spur\, OR\, United 
 States
GEO:45.42511169533694;-121.59154453442386
X-APPLE-STRUCTURED-LOCATION;VALUE=URI;X-ADDRESS=Cooper Spur Rd\, Cooper Spu
 r\, OR\, United States;X-APPLE-RADIUS=100;X-TITLE=Tilly Jane Trailhead:geo
 :45.42511169533694,-121.59154453442386
END:VEVENT
BEGIN:VTIMEZONE
TZID:America/Los_Angeles
X-LIC-LOCATION:America/Los_Angeles
BEGIN:STANDARD
DTSTART:20201101T010000
TZOFFSETFROM:-0700
TZOFFSETTO:-0800
TZNAME:PST
END:STANDARD
END:VTIMEZONE
END:VCALENDAR