BEGIN:VCALENDAR
VERSION:2.0
PRODID:-//wp-events-plugin.com//7.0.5//EN
TZID:America/Los_Angeles
X-WR-TIMEZONE:America/Los_Angeles
BEGIN:VEVENT
UID:9@onc-pdx.org
DTSTART;TZID=America/Los_Angeles;VALUE=DATE:20150109
DTEND;TZID=America/Los_Angeles;VALUE=DATE:20150112
DTSTAMP:20141029T040901Z
URL:https://onc-pdx.org/events/tilly-jane-frame-cabin-mt-hood/
SUMMARY:Tilly Jane A-Frame Cabin\, Mt.Hood\, OR
DESCRIPTION:[caption id="attachment_281" align="aligncenter" width="300" cl
 ass=" "] Inside TJ cabin[/caption]We’ll backcountry ski\, snowshoe or hi
 ke to the ONC-PDX managed shelter on the East side of Mt. Hood\, a three-m
 ile ski with a 1\,900-foot elevation gain up the Tilly Jane Ski Trail to t
 he cabin at 5\,700 feet elevation. Participants carry their own gear\, inc
 luding sleeping bag\, pad and food for all meals. We have a wood stove for
  heating water. You can also bring your own stove and cooking pots. Experi
 enced intermediate skiing skills with turning ability\, good physical cond
 itioning and navigation skills using map\, compass or GPS are required. Cl
 imbing skins are mandatory. Cost: Free–an ONC-PDx member benefit. You m
 ust be an ONC-PDx member or Tilly Jane volunteer before signing up for thi
 s trip. To sign up email: TillyJaneCabin@gmail.com. Your info will be pas
 sed on to the trip leader. 
CATEGORIES:Backcountry Ski/Telemarking,Hiking,Snowshoe
END:VEVENT
BEGIN:VTIMEZONE
TZID:America/Los_Angeles
X-LIC-LOCATION:America/Los_Angeles
BEGIN:STANDARD
DTSTART:20141102T010000
TZOFFSETFROM:-0700
TZOFFSETTO:-0800
TZNAME:PST
END:STANDARD
END:VTIMEZONE
END:VCALENDAR