BEGIN:VCALENDAR
VERSION:2.0
PRODID:-//wp-events-plugin.com//7.0.5//EN
TZID:America/Los_Angeles
X-WR-TIMEZONE:America/Los_Angeles
BEGIN:VEVENT
UID:32@onc-pdx.org
DTSTART;TZID=America/Los_Angeles;VALUE=DATE:20150403
DTEND;TZID=America/Los_Angeles;VALUE=DATE:20150406
DTSTAMP:20150217T182403Z
URL:https://onc-pdx.org/events/tilly-jane-frame-cabin-mt-hood-4/
SUMMARY:Tilly Jane A-Frame Cabin\, Mt.Hood\, OR
DESCRIPTION:We’ll backcountry ski\, snowshoe or hike to the ONC-PDx manag
 ed shelter on the East side of Mt. Hood\, a three-mile ski with a 1\,900-f
 oot elevation gain up the Tilly Jane Ski Trail to the cabin at 5\,700 feet
  elevation. Participants carry their own gear\, including sleeping bag\, p
 ad and food for all meals. We have a wood stove for heating water. You can
  also bring your own stove and cooking pots. Experienced intermediate skii
 ng skills with turning ability\, good physical conditioning and navigation
  skills using map\, compass or GPS are required. Climbing skins are mandat
 ory.  Cost: Free–an ONC-PDx member benefit. You must be an ONC-PDx mem
 ber or Tilly Jane volunteer before signing up for this trip. To sign up u
 se the form below or email: TillyJaneCabin@gmail.com. Your info will be pa
 ssed on to the trip leader.  
CATEGORIES:Backcountry Ski/Telemarking,Snowshoe
END:VEVENT
BEGIN:VTIMEZONE
TZID:America/Los_Angeles
X-LIC-LOCATION:America/Los_Angeles
BEGIN:DAYLIGHT
DTSTART:20150308T030000
TZOFFSETFROM:-0800
TZOFFSETTO:-0700
TZNAME:PDT
END:DAYLIGHT
END:VTIMEZONE
END:VCALENDAR