BEGIN:VCALENDAR
VERSION:2.0
PRODID:-//wp-events-plugin.com//7.0.5//EN
TZID:America/Los_Angeles
X-WR-TIMEZONE:America/Los_Angeles
BEGIN:VEVENT
UID:27@onc-pdx.org
DTSTART;TZID=America/Los_Angeles;VALUE=DATE:20150306
DTEND;TZID=America/Los_Angeles;VALUE=DATE:20150309
DTSTAMP:20150217T182308Z
URL:https://onc-pdx.org/events/tilly-jane-frame-cabin-mt-hood-3/
SUMMARY:Tilly Jane A-Frame Cabin\, Mt. Hood\, OR
DESCRIPTION:We’ll backcountry ski\, snowshoe\, or hike to the ONC-PDX man
 aged shelter on the east side of Mt. Hood\, a three-mile ski with a 1\,900
 -foot elevation gain up the Tilly Jane Ski Trail to the cabin at 5\,700 fe
 et elevation. Participants carry their own gear\, including sleeping bag\,
  pad\, and food for all meals. We have a wood stove for heating water. You
  can also bring your own stove and cooking pots. Experienced intermediate 
 skiing skills with turning ability\, good physical conditioning\, and navi
 gation skills using map\, compass\, or GPS are required. Climbing skins ar
 e mandatory.  Cost: Free—an ONC-PDX member benefit. You must be an ONC
 -PDX member or Tilly Jane volunteer before signing up for this trip. To s
 ign up\, use the form below or email: TillyJaneCabin@gmail.com. Your info 
 will be passed on to the trip leader. 
CATEGORIES:Backcountry Ski/Telemarking,Cross Country Ski,Snowshoe
END:VEVENT
BEGIN:VTIMEZONE
TZID:America/Los_Angeles
X-LIC-LOCATION:America/Los_Angeles
BEGIN:STANDARD
DTSTART:20141102T010000
TZOFFSETFROM:-0700
TZOFFSETTO:-0800
TZNAME:PST
END:STANDARD
END:VTIMEZONE
END:VCALENDAR