BEGIN:VCALENDAR
VERSION:2.0
PRODID:-//wp-events-plugin.com//7.0.5//EN
TZID:America/Los_Angeles
X-WR-TIMEZONE:America/Los_Angeles
BEGIN:VEVENT
UID:666@onc-pdx.org
DTSTART;TZID=America/Los_Angeles:20191005T090000
DTEND;TZID=America/Los_Angeles:20191005T160000
DTSTAMP:20190929T173346Z
URL:https://onc-pdx.org/events/tilly-jane-cabins-annual-volunteer-weekend-
 2/
SUMMARY:Tilly Jane Cabins Annual Volunteer Weekend
DESCRIPTION:Come and help prepare the cabins for winter use!ll&nbsp\;We'll 
 be preforming general cleaning and light repairs along with stacking the a
 nnual firewood supply at both the A-Frame and Guard Station cabins.The cab
 ins will be open Friday/Saturday nights so make a weekend out of it and st
 ay over.&nbsp\; We'll also have a potluck style lunch on Saturday (bring a
  dish to share) with beverages donated by Base Camp Brewing!Bring: work gl
 oves/boots\, snacks and anything you'll need to make yourself comfortable.
 &nbsp\; Be prepared for varied weather conditions as it gets cool at night
 .For more information check out the event posterFor more info\, please e-m
 ail: reservations@tillyjanecabins.org&nbsp\;
CATEGORIES:Trail Tending
LOCATION:Tilly Jane Trailhead\, Cooper Spur Rd\, Cooper Spur\, OR\, United 
 States
GEO:45.42511169533694;-121.59154453442386
X-APPLE-STRUCTURED-LOCATION;VALUE=URI;X-ADDRESS=Cooper Spur Rd\, Cooper Spu
 r\, OR\, United States;X-APPLE-RADIUS=100;X-TITLE=Tilly Jane Trailhead:geo
 :45.42511169533694,-121.59154453442386
END:VEVENT
BEGIN:VTIMEZONE
TZID:America/Los_Angeles
X-LIC-LOCATION:America/Los_Angeles
BEGIN:DAYLIGHT
DTSTART:20190310T030000
TZOFFSETFROM:-0800
TZOFFSETTO:-0700
TZNAME:PDT
END:DAYLIGHT
END:VTIMEZONE
END:VCALENDAR