BEGIN:VCALENDAR
VERSION:2.0
PRODID:-//wp-events-plugin.com//7.0.5//EN
TZID:America/Los_Angeles
X-WR-TIMEZONE:America/Los_Angeles
BEGIN:VEVENT
UID:937@onc-pdx.org
DTSTART;TZID=America/Los_Angeles:20220725T090000
DTEND;TZID=America/Los_Angeles:20220725T160000
DTSTAMP:20220706T151147Z
URL:https://onc-pdx.org/events/tilly-jane-cabins-amphitheater-rehab-projec
 t-6/
SUMMARY:Tilly Jane Cabins\, Amphitheater Rehab Project
DESCRIPTION:Join us as we work to rebuild the historic TJ Amphitheater.&nbs
 p\; Project work includes: debarking logs\, removing and replacing the ori
 ginal log benches among other tasks associated with restoring the original
  amphitheater structure.&nbsp\;&nbsp\;\n\nNo experience necessary.&nbsp\; 
 We'll be led by the USFS Archeologist and our Master Builder from Promethe
 us Craft Works\n\nMeet &amp\; Park at the Guard Station cabin at 9am.&nbsp
 \;\n\nFree parking and camping is available at the Tilly Jane campground.\
 nFree overnight stay at the Cloud Cap Inn on your work day (M-F nights).\n
 Free overnight stay at the TJ Guard Station (M-F nights).\nFree Solera Bre
 wing beverages\nBring your work boots\, gloves\, lunch (and other meals if
  you are spending the night)\, and any personal items you'll need for the 
 day and overnight stay.&nbsp\;\n\nDon't forget to dress appropriately base
 d on the anticipated forecast.&nbsp\; If you'd like to help for more than 
 a day\, bring your camping gear and stay over at Cloud Cap Inn\, in the ca
 mpground or in the Guard Station\, which will be open for volunteers. Plea
 se RSVP for the overnight dates you'd like by sending an email to reservat
 ions@tillyjanecabins.org.\n\nWe need 4 volunteers per day.&nbsp\; If you'v
 e got some flexibility\, sign up for more than one day\n\nAll volunteers w
 ill earn a stay at one of the club/volunteer weekends next winter (Jan-Apr
 il 2023)\n\nThe road will be open so you'll be able to drive up to the cab
 in.&nbsp\; Sign up for 1\, 2\, 3\, or all 4 spots.&nbsp\; Be the leader an
 d recruit your friends and family.&nbsp\; We're counting on you so please 
 don't sign up if you can't commit to attending.&nbsp\; The planning and fu
 nding of this project includes volunteer labor to offset the rehab costs s
 o it's critical that each spot is filled.\n\nTHE HISTORIC DISTRICT NEEDS Y
 OU\, PLEASE GIVE BACK FOR ALL THAT TJ HAS GIVEN YOU!
CATEGORIES:Tilly Jane
LOCATION:Tilly Jane Trailhead\, Cooper Spur Rd\, Cooper Spur\, OR\, United 
 States
GEO:45.42511169533694;-121.59154453442386
X-APPLE-STRUCTURED-LOCATION;VALUE=URI;X-ADDRESS=Cooper Spur Rd\, Cooper Spu
 r\, OR\, United States;X-APPLE-RADIUS=100;X-TITLE=Tilly Jane Trailhead:geo
 :45.42511169533694,-121.59154453442386
END:VEVENT
BEGIN:VTIMEZONE
TZID:America/Los_Angeles
X-LIC-LOCATION:America/Los_Angeles
BEGIN:DAYLIGHT
DTSTART:20220313T030000
TZOFFSETFROM:-0800
TZOFFSETTO:-0700
TZNAME:PDT
END:DAYLIGHT
END:VTIMEZONE
END:VCALENDAR