BEGIN:VCALENDAR
VERSION:2.0
PRODID:-//wp-events-plugin.com//7.0.5//EN
TZID:America/Los_Angeles
X-WR-TIMEZONE:America/Los_Angeles
BEGIN:VEVENT
UID:757@onc-pdx.org
DTSTART;TZID=America/Los_Angeles:20200815T090000
DTEND;TZID=America/Los_Angeles:20200815T160000
DTSTAMP:20200715T164923Z
URL:https://onc-pdx.org/events/tilly-jane-cabin-summer-work-party/
SUMMARY:Tilly Jane Cabin\, Summer Work Party
DESCRIPTION:Join us for some wrap up projects to finish the multi-year cabi
 n restorations.&nbsp\; This years work includes: replacing some interior w
 all sections\, installing a toilet vent pipe and installing a new french d
 rain among other tasks.&nbsp\; No experience necessaryMeet at the cabin at
  9am.&nbsp\; Bring your work boots\, gloves\, a chainsaw if you have one\,
  lunch\, and any personal items you'll need.&nbsp\; Don't forget to dress 
 appropriately based on the anticipated forecast.&nbsp\; If you'd like to h
 elp for more than a day\, bring your camping gear and stay over.&nbsp\; Al
 l volunteers earn a free weekend stay at one of the winter club/volunteer 
 weekends.We need 10 volunteers per day.The road is open so you'll be able 
 to drive up to the cabin.&nbsp\; Sign up for 1\, 2\, 3\, or up to all 10 s
 pots.&nbsp\; Be the leader and recruit your friends and family.&nbsp\; We'
 re counting on you so please don't sign up if you can't commit to attendin
 g.&nbsp\; The world we live in has changed with the COVID epidemic.&nbsp\;
  We have limited the number of volunteers and ask that you bring your mask
  to assist in social distancing protocol.&nbsp\; Many of the projects will
  be completed outside.&nbsp\; We'll have hand washing stations and lots of
  hand sanitizer.&nbsp\;&nbsp\;THE CABIN NEEDS YOU\, PLEASE GIVE BACK FOR A
 LL THAT TJ HAS GIVEN YOU!
CATEGORIES:Trail Tending
LOCATION:Tilly Jane Trailhead\, Cooper Spur Rd\, Cooper Spur\, OR\, United 
 States
GEO:45.42511169533694;-121.59154453442386
X-APPLE-STRUCTURED-LOCATION;VALUE=URI;X-ADDRESS=Cooper Spur Rd\, Cooper Spu
 r\, OR\, United States;X-APPLE-RADIUS=100;X-TITLE=Tilly Jane Trailhead:geo
 :45.42511169533694,-121.59154453442386
END:VEVENT
BEGIN:VTIMEZONE
TZID:America/Los_Angeles
X-LIC-LOCATION:America/Los_Angeles
BEGIN:DAYLIGHT
DTSTART:20200308T030000
TZOFFSETFROM:-0800
TZOFFSETTO:-0700
TZNAME:PDT
END:DAYLIGHT
END:VTIMEZONE
END:VCALENDAR