BEGIN:VCALENDAR
VERSION:2.0
PRODID:-//wp-events-plugin.com//7.0.5//EN
TZID:America/Los_Angeles
X-WR-TIMEZONE:America/Los_Angeles
BEGIN:VEVENT
UID:662@onc-pdx.org
DTSTART;TZID=America/Los_Angeles:20190918T090000
DTEND;TZID=America/Los_Angeles:20190918T160000
DTSTAMP:20190909T171354Z
URL:https://onc-pdx.org/events/tilly-jane-cabin-phase-4-rehab-project-6/
SUMMARY:Tilly Jane Cabin\, Phase 4 Rehab Project
DESCRIPTION:Join us as we work to rebuild the cabin after decades of deferr
 ed maintenance.&nbsp\; Phase 4 work includes: replacing the cedar wall sha
 kes\, installing a new composting toilet and rebuilding the Guard Station 
 garage among other tasks.&nbsp\; No experience necessary.&nbsp\; We'll be 
 led by our Master Builder from Wells Construction. &nbsp\;Meet at the cabi
 n at 9am.&nbsp\; Bring your work boots\, gloves\, lunch\, and any personal
  items you'll need.&nbsp\; Don't forget to dress appropriately based on th
 e anticipated forecast.&nbsp\; If you'd like to help for more than a day\,
  bring your camping gear and stay over.&nbsp\; The Guard Station will be o
 pen for groups wanting to stay over.&nbsp\; Please RSVP for the days you'd
  like.We need 4-6 volunteers per day.&nbsp\; If you've got some flexibilit
 y\, sign up for a day that has less RSVP's.All volunteers will earn a stay
  at one of the club/volunteer weekends next winter (Jan-April 2020). &nbsp
 \;The road is open!&nbsp\; Sign up for 1\, 2\, 3\, or up to all 6 spots.&n
 bsp\; Be the leader and recruit your friends and family.&nbsp\; We're coun
 ting on you so please don't sign up if you can't commit to attending.&nbsp
 \; The planning and funding of this project includes volunteer labor to of
 fset the rehab costs so it's critical that each spot is filled.THE CABIN N
 EEDS YOU\, PLEASE GIVE BACK FOR ALL THAT TJ HAS GIVEN YOU!
CATEGORIES:Trail Tending
LOCATION:Tilly Jane Trailhead\, Cooper Spur Rd\, Cooper Spur\, OR\, United 
 States
GEO:45.42511169533694;-121.59154453442386
X-APPLE-STRUCTURED-LOCATION;VALUE=URI;X-ADDRESS=Cooper Spur Rd\, Cooper Spu
 r\, OR\, United States;X-APPLE-RADIUS=100;X-TITLE=Tilly Jane Trailhead:geo
 :45.42511169533694,-121.59154453442386
END:VEVENT
BEGIN:VTIMEZONE
TZID:America/Los_Angeles
X-LIC-LOCATION:America/Los_Angeles
BEGIN:DAYLIGHT
DTSTART:20190310T030000
TZOFFSETFROM:-0800
TZOFFSETTO:-0700
TZNAME:PDT
END:DAYLIGHT
END:VTIMEZONE
END:VCALENDAR