BEGIN:VCALENDAR
VERSION:2.0
PRODID:-//wp-events-plugin.com//7.0.5//EN
TZID:America/Los_Angeles
X-WR-TIMEZONE:America/Los_Angeles
BEGIN:VEVENT
UID:1181@onc-pdx.org
DTSTART;TZID=America/Los_Angeles:20241005T090000
DTEND;TZID=America/Los_Angeles:20241005T160000
DTSTAMP:20240831T140420Z
URL:https://onc-pdx.org/events/tilly-jane-annual-wood-haul-2/
SUMMARY:Tilly Jane Annual Wood Haul
DESCRIPTION:\n\n&nbsp\;\nTilly Jane Wood Haul-2024\nJoin us for the annual 
 Wood Haul to load up the cabins for the winter. No sign up needed.\nKnow B
 efore You Go:\n        Drive &amp\; Park: \n\n 	Meet at Tilly Jane Gu
 ard Station\, Mt Hood. Park at the TJ Campground. \n 	We start hauling at 
 9am\n\n       What to Expect: \n\n 	Haul &amp\; stack 10 cords of win
 ter firewood\n 	Buck &amp\; stack downed firewood\n 	Annual deep cleaning 
 of both cabins\n\n      Perks:\n\n 	Volunteers earn priority for a free
  weekend stay at the A-Frame (Jan – Apr Maintenance weekends)\n 	Beverag
 es provided by Solera Brewery\n 	Free gear raffle by Gerber Gear\, Arctery
 'x\, Next Adventure\, Mountain Shop + more\n 	Overnight camping is availab
 le in the TJ campground and both TJ cabins.\nUSFS FIRE RESTRICTIONS WILL A
 PPLY\n\n      Bring:\n\n 	Sturdy work boots\, gloves\, hat\n 	Sun Prote
 ction\n 	Ear &amp\; Eye Protection\n 	Cold weather clothing\n 	Chainsaw w/
 Safety Gear (if you have one)\n 	Lunch / Snacks / Water Container\n\nEmail
  reservations@tillyjanecabins.org if you still have questions
CATEGORIES:Tilly Jane
LOCATION:Tilly Jane Trailhead\, Cooper Spur Rd\, Cooper Spur\, OR\, United 
 States
GEO:45.42511169533694;-121.59154453442386
X-APPLE-STRUCTURED-LOCATION;VALUE=URI;X-ADDRESS=Cooper Spur Rd\, Cooper Spu
 r\, OR\, United States;X-APPLE-RADIUS=100;X-TITLE=Tilly Jane Trailhead:geo
 :45.42511169533694,-121.59154453442386
END:VEVENT
BEGIN:VTIMEZONE
TZID:America/Los_Angeles
X-LIC-LOCATION:America/Los_Angeles
BEGIN:DAYLIGHT
DTSTART:20240310T030000
TZOFFSETFROM:-0800
TZOFFSETTO:-0700
TZNAME:PDT
END:DAYLIGHT
END:VTIMEZONE
END:VCALENDAR