BEGIN:VCALENDAR
VERSION:2.0
PRODID:-//wp-events-plugin.com//7.0.5//EN
TZID:America/Los_Angeles
X-WR-TIMEZONE:America/Los_Angeles
BEGIN:VEVENT
UID:97@onc-pdx.org
DTSTART;TZID=America/Los_Angeles;VALUE=DATE:20160108
DTEND;TZID=America/Los_Angeles;VALUE=DATE:20160111
DTSTAMP:20151022T160750Z
URL:https://onc-pdx.org/events/tilly-jane-a-frame-club-weekend/
SUMMARY:Tilly Jane A Frame Club Weekend
DESCRIPTION:Jan 8-10\, Fri-SunIntermediate Backcountry SkiWe’ll backcount
 ry ski to the ONC-PDX managed shelter on the Northeast side of Mt. Hood\, 
 a 3 mile ski with a 1\,900-foot gain up the Tilly Jane Ski Trail to the ca
 bin at 5\,700 feet elevation. Participants carry their own gear\, includin
 g sleeping bags\, pad\, and food for all meals. We have a wood stove for c
 ooking meals or heating water. Participants can also bring their own stove
  and cooking pots. Experienced intermediate skiing skills with turning abi
 lity\, good physical condition and navigation/route finding skills using m
 ap\, compass or GPS. Climbing skins are required.Trip Limit: 20 max\, Open
  to all ONC members and TJ cabin volunteersCost: Free (another club benefi
 t). You must be an ONC member before signing up for this trip.To sign up o
 r for more info\, please e-mail: TillyJaneCabin@gmail.com. We’ll forward
  your request to the appropriate trip leader. Leaders TBD
CATEGORIES:Backcountry Ski/Telemarking,Cross Country Ski,Snowshoe
LOCATION:Tilly Jane Trailhead\, Cooper Spur Rd\, Cooper Spur\, OR\, United 
 States
GEO:45.42511169533694;-121.59154453442386
X-APPLE-STRUCTURED-LOCATION;VALUE=URI;X-ADDRESS=Cooper Spur Rd\, Cooper Spu
 r\, OR\, United States;X-APPLE-RADIUS=100;X-TITLE=Tilly Jane Trailhead:geo
 :45.42511169533694,-121.59154453442386
END:VEVENT
BEGIN:VTIMEZONE
TZID:America/Los_Angeles
X-LIC-LOCATION:America/Los_Angeles
BEGIN:STANDARD
DTSTART:20151101T010000
TZOFFSETFROM:-0700
TZOFFSETTO:-0800
TZNAME:PST
END:STANDARD
END:VTIMEZONE
END:VCALENDAR