BEGIN:VCALENDAR
VERSION:2.0
PRODID:-//wp-events-plugin.com//7.0.5//EN
TZID:America/Los_Angeles
X-WR-TIMEZONE:America/Los_Angeles
BEGIN:VEVENT
UID:100@onc-pdx.org
DTSTART;TZID=America/Los_Angeles;VALUE=DATE:20160408
DTEND;TZID=America/Los_Angeles;VALUE=DATE:20160411
DTSTAMP:20151024T155127Z
URL:https://onc-pdx.org/events/tilly-jane-a-frame-club-weekend-4/
SUMMARY:Tilly Jane A Frame Club Weekend
DESCRIPTION:Apr 8-10\, Fri-Sun Intermediate Backcountry SkiWe’ll backcoun
 try ski to the ONC-PDX managed shelter on the Northeast side of Mt. Hood\,
  a 3 mile ski with a 1\,900-foot gain up the Tilly Jane Ski Trail to the c
 abin at 5\,700 feet elevation. Participants carry their own gear\, includi
 ng sleeping bags\, pad\, and food for all meals. We have a wood stove for 
 cooking meals or heating water. Participants can also bring their own stov
 e and cooking pots. Experienced intermediate skiing skills with turning ab
 ility\, good physical condition and navigation/route finding skills using 
 map\, compass or GPS. Climbing skins are required.Trip Limit: 20 max\, Ope
 n to all ONC members and TJ cabin volunteersCost: Free (another club benef
 it). You must be an ONC member before signing up for this trip.To sign up 
 or for more info\, please e-mail: TillyJaneCabin@gmail.com. We’ll forwar
 d your request to the appropriate trip leader. Leaders TBD
CATEGORIES:Backcountry Ski/Telemarking,Cross Country Ski,Snowshoe
LOCATION:Tilly Jane Trailhead\, Cooper Spur Rd\, Cooper Spur\, OR\, United 
 States
GEO:45.42511169533694;-121.59154453442386
X-APPLE-STRUCTURED-LOCATION;VALUE=URI;X-ADDRESS=Cooper Spur Rd\, Cooper Spu
 r\, OR\, United States;X-APPLE-RADIUS=100;X-TITLE=Tilly Jane Trailhead:geo
 :45.42511169533694,-121.59154453442386
END:VEVENT
BEGIN:VTIMEZONE
TZID:America/Los_Angeles
X-LIC-LOCATION:America/Los_Angeles
BEGIN:DAYLIGHT
DTSTART:20160313T030000
TZOFFSETFROM:-0800
TZOFFSETTO:-0700
TZNAME:PDT
END:DAYLIGHT
END:VTIMEZONE
END:VCALENDAR