BEGIN:VCALENDAR
VERSION:2.0
PRODID:-//wp-events-plugin.com//7.0.5//EN
TZID:America/Los_Angeles
X-WR-TIMEZONE:America/Los_Angeles
BEGIN:VEVENT
UID:99@onc-pdx.org
DTSTART;TZID=America/Los_Angeles;VALUE=DATE:20160311
DTEND;TZID=America/Los_Angeles;VALUE=DATE:20160314
DTSTAMP:20151022T160937Z
URL:https://onc-pdx.org/events/tilly-jane-a-frame-club-weekend-3/
SUMMARY:Tilly Jane A Frame Club Weekend
DESCRIPTION:Mar 11-13\, Fri-Sun Intermediate Backcountry SkiWe’ll backcou
 ntry ski to the ONC-PDX managed shelter on the Northeast side of Mt. Hood\
 , a 3 mile ski with a 1\,900-foot gain up the Tilly Jane Ski Trail to the 
 cabin at 5\,700 feet elevation. Participants carry their own gear\, includ
 ing sleeping bags\, pad\, and food for all meals. We have a wood stove for
  cooking meals or heating water. Participants can also bring their own sto
 ve and cooking pots. Experienced intermediate skiing skills with turning a
 bility\, good physical condition and navigation/route finding skills using
  map\, compass or GPS. Climbing skins are required.Trip Limit: 20 max\, Op
 en to all ONC members and TJ cabin volunteersCost: Free (another club bene
 fit). You must be an ONC member before signing up for this trip.To sign up
  or for more info\, please e-mail: TillyJaneCabin@gmail.com. We’ll forwa
 rd your request to the appropriate trip leader. Leaders TBD
CATEGORIES:Backcountry Ski/Telemarking,Cross Country Ski,Snowshoe
LOCATION:Tilly Jane Trailhead\, Cooper Spur Rd\, Cooper Spur\, OR\, United 
 States
GEO:45.42511169533694;-121.59154453442386
X-APPLE-STRUCTURED-LOCATION;VALUE=URI;X-ADDRESS=Cooper Spur Rd\, Cooper Spu
 r\, OR\, United States;X-APPLE-RADIUS=100;X-TITLE=Tilly Jane Trailhead:geo
 :45.42511169533694,-121.59154453442386
END:VEVENT
BEGIN:VTIMEZONE
TZID:America/Los_Angeles
X-LIC-LOCATION:America/Los_Angeles
BEGIN:STANDARD
DTSTART:20151101T010000
TZOFFSETFROM:-0700
TZOFFSETTO:-0800
TZNAME:PST
END:STANDARD
END:VTIMEZONE
END:VCALENDAR