BEGIN:VCALENDAR
VERSION:2.0
PRODID:-//wp-events-plugin.com//7.0.5//EN
TZID:America/Los_Angeles
X-WR-TIMEZONE:America/Los_Angeles
BEGIN:VEVENT
UID:1183@onc-pdx.org
DTSTART;TZID=America/Los_Angeles;VALUE=DATE:20250103
DTEND;TZID=America/Los_Angeles;VALUE=DATE:20250106
DTSTAMP:20241230T163804Z
URL:https://onc-pdx.org/events/tilly-jane-a-frame-cabin-mt-hood-or-28/
SUMMARY:Tilly Jane A-Frame Cabin\, Mt. Hood\, OR
DESCRIPTION:Intermediate Back Country Ski\n\nFriday and Saturday night stay
  in the historic Tilly Jane A-Frame shelter on Mt Hood. Park at the Tilly 
 Jane Trailhead parking area. You’ll back country ski to the Friends of T
 illy Jane Cabins managed shelter on the Northeast side of Mt. Hood\, a 3 m
 ile ski with a 1\,900-foot elevation gain up the Tilly Jane Ski Trail to t
 he cabin at 5\,700 feet. Experienced intermediate skiing skills with turni
 ng ability\, good physical condition and navigation/route finding skills u
 sing map\, compass or GPS. Climbing skins are REQUIRED.\n\nParticipants ca
 rry their own gear\, including sleeping bags\, sleeping pad\, toilet paper
 \, propane for lanterns\, and food for all meals. Water is obtained from t
 he Tilly Jane Creek or by melting snow. We have a wood stove with plenty o
 f firewood\, and pots for heating water. Participants might also bring the
 ir own cooking stove and pots for meal preparation.\n\nWe close the cabin 
 once a month during the ski season (Jan-April) and invite volunteers and O
 NC members to spend a weekend at the cabin.  Light cabin maintenance chor
 es will be completed during your stay including checking smoke detectors\,
  measuring the wood supply\, making kindling\, rodent control\, cleaning t
 he cabin and making any identified repairs.  Attendees are limited to TJ 
 volunteers and ONC-PDX members and their guests.\n\nPlease Note: No DOGS a
 re allowed at this cabin.\n\nTrip Limit: 15 people max\, Open to 2024 Till
 y Jane Volunteers and ONC-PDX members\nCost: Free. Booking priority will b
 e given to 2024 Tilly Jane VOLUNTEERS.  Left over spaces will then be ope
 ned to ONC-PDX club members.  \n\nFor more info\, please e-mail:  Hello
 @FOTJC.org
ATTACH;FMTTYPE=image/jpeg:https://onc-pdx.org/wp-content/uploads/2023/10/A
 F_2020.jpg
CATEGORIES:Backcountry Ski/Telemarking,Cross Country Ski,Tilly Jane
LOCATION:Tilly Jane Trailhead\, Cooper Spur Rd\, Cooper Spur\, OR\, United 
 States
GEO:45.42511169533694;-121.59154453442386
X-APPLE-STRUCTURED-LOCATION;VALUE=URI;X-ADDRESS=Cooper Spur Rd\, Cooper Spu
 r\, OR\, United States;X-APPLE-RADIUS=100;X-TITLE=Tilly Jane Trailhead:geo
 :45.42511169533694,-121.59154453442386
END:VEVENT
BEGIN:VTIMEZONE
TZID:America/Los_Angeles
X-LIC-LOCATION:America/Los_Angeles
BEGIN:STANDARD
DTSTART:20241103T010000
TZOFFSETFROM:-0700
TZOFFSETTO:-0800
TZNAME:PST
END:STANDARD
END:VTIMEZONE
END:VCALENDAR