BEGIN:VCALENDAR
VERSION:2.0
PRODID:-//wp-events-plugin.com//7.0.5//EN
TZID:America/Los_Angeles
X-WR-TIMEZONE:America/Los_Angeles
BEGIN:VEVENT
UID:978@onc-pdx.org
DTSTART;TZID=America/Los_Angeles;VALUE=DATE:20230303
DTEND;TZID=America/Los_Angeles;VALUE=DATE:20230306
DTSTAMP:20230109T180920Z
URL:https://onc-pdx.org/events/tilly-jane-a-frame-cabin-mt-hood-or-23/
SUMMARY:Tilly Jane A-Frame Cabin\, Mt. Hood\, OR
DESCRIPTION:Intermediate Back Country Ski\n\nFriday and Saturday night stay
  in the historic Tilly Jane A-Frame cabin. You’ll back country ski to th
 e ONC-PDX managed shelter on the Northeast side of Mt. Hood\, a 3 mile ski
  with a 1\,900-foot gain up the Tilly Jane Ski Trail to the cabin at 5\,70
 0 feet elevation. Experienced intermediate skiing skills with turning abil
 ity\, good physical condition and navigation/route finding skills using ma
 p\, compass or GPS. Climbing skins are REQUIRED. \n\nParticipants carry th
 eir own gear\, including sleeping bags\, pad\, toilet paper\, and food for
  all meals. Water is obtained at the Tilly Jane Creek or by melting snow. 
 We have a wood stove and pots heating water. Participants might also bring
  their own cooking stove and pots.\n\nThis is a cabin maintenance work wee
 kend. Attendees will participate in completing minor cabin activities incl
 uding checking smoke detectors &amp\; wood supply\, making kindling\, rode
 nt control\, cleaning the cabin and other repairs as identified.&nbsp\;\n\
 nTrip Limit: 20 people max\, Open to all ONC members and 2022 Tilly Jane V
 olunteers\nCost: Free. Booking priority will be given to 2022 Tilly Jane V
 OLUNTEERS.&nbsp\; Available spaces will then be opened to ONC-PDX club mem
 bers.&nbsp\;&nbsp\;\n\nFor more info\, please e-mail: reservations@tillyja
 necabins.org.\n\n&nbsp\;
CATEGORIES:Backcountry Ski/Telemarking,Cross Country Ski,Tilly Jane
LOCATION:Tilly Jane Trailhead\, Cooper Spur Rd\, Cooper Spur\, OR\, United 
 States
GEO:45.42511169533694;-121.59154453442386
X-APPLE-STRUCTURED-LOCATION;VALUE=URI;X-ADDRESS=Cooper Spur Rd\, Cooper Spu
 r\, OR\, United States;X-APPLE-RADIUS=100;X-TITLE=Tilly Jane Trailhead:geo
 :45.42511169533694,-121.59154453442386
END:VEVENT
BEGIN:VTIMEZONE
TZID:America/Los_Angeles
X-LIC-LOCATION:America/Los_Angeles
BEGIN:STANDARD
DTSTART:20221106T010000
TZOFFSETFROM:-0700
TZOFFSETTO:-0800
TZNAME:PST
END:STANDARD
END:VTIMEZONE
END:VCALENDAR