BEGIN:VCALENDAR
VERSION:2.0
PRODID:-//wp-events-plugin.com//7.0.5//EN
TZID:America/Los_Angeles
X-WR-TIMEZONE:America/Los_Angeles
BEGIN:VEVENT
UID:793@onc-pdx.org
DTSTART;TZID=America/Los_Angeles;VALUE=DATE:20210305
DTEND;TZID=America/Los_Angeles;VALUE=DATE:20210308
DTSTAMP:20201006T163146Z
URL:https://onc-pdx.org/events/tilly-jane-a-frame-cabin-mt-hood-or-14/
SUMMARY:Tilly Jane A-Frame Cabin\, Mt. Hood\, OR
DESCRIPTION:Intermediate Back Country Ski\n\nWe’ll back country ski to th
 e ONC-PDX managed shelter on the Northeast side of Mt. Hood\, a 3 mile ski
  with a 1\,900-foot gain up the Tilly Jane Ski Trail to the cabin at 5\,70
 0 feet elevation. Participants carry their own gear\, including sleeping b
 ags\, pad\, and food for all meals. We have a wood stove for cooking or he
 ating water. Participants might also bring their own stove and cooking pot
 s. Experienced intermediate skiing skills with turning ability\, good phys
 ical condition and navigation/route finding skills using map\, compass or 
 GPS. Climbing skins are REQUIRED.\n\nTrip Limit: 10 max\, Open to all ONC 
 members and Tilly Jane volunteers (reduced capacity due to COVID)\nCost: F
 ree (another club benefit). Booking priority will be given to Tilly Jane V
 OLUNTEERS.&nbsp\; Left over spaces will then be opened to club members.&nb
 sp\;&nbsp\;\nFor more info\, please e-mail: reservations@tillyjanecabins.o
 rg. We’ll forward your questions to the appropriate trip leader. Leaders
  TBD
CATEGORIES:Backcountry Ski/Telemarking,Cross Country Ski
LOCATION:Tilly Jane Trailhead\, Cooper Spur Rd\, Cooper Spur\, OR\, United 
 States
GEO:45.42511169533694;-121.59154453442386
X-APPLE-STRUCTURED-LOCATION;VALUE=URI;X-ADDRESS=Cooper Spur Rd\, Cooper Spu
 r\, OR\, United States;X-APPLE-RADIUS=100;X-TITLE=Tilly Jane Trailhead:geo
 :45.42511169533694,-121.59154453442386
END:VEVENT
BEGIN:VTIMEZONE
TZID:America/Los_Angeles
X-LIC-LOCATION:America/Los_Angeles
BEGIN:STANDARD
DTSTART:20201101T010000
TZOFFSETFROM:-0700
TZOFFSETTO:-0800
TZNAME:PST
END:STANDARD
END:VTIMEZONE
END:VCALENDAR