BEGIN:VCALENDAR
VERSION:2.0
PRODID:-//wp-events-plugin.com//7.0.5//EN
TZID:America/Los_Angeles
X-WR-TIMEZONE:America/Los_Angeles
BEGIN:VEVENT
UID:1196@onc-pdx.org
DTSTART;TZID=America/Los_Angeles:20250109T090000
DTEND;TZID=America/Los_Angeles:20250109T170000
DTSTAMP:20250108T181652Z
URL:https://onc-pdx.org/events/thursday-with-ted-and-friends-lets-go-skiin
 g/
SUMMARY:Ski Thursday with Ted &amp\; Friends!
DESCRIPTION:\n\n\nLet’s ski this Thursday!  We will have a leisurely\, e
 asy intermediate ski tour\, no more than 6 miles\, either at Mt. Hood or S
 W Washington\, depending on conditions.  Weather is expected to be partly
  sunny skies\, with no chance of rain.\nMeet at Gateway Park &amp\; Ride G
 arage\, 1249 NE 99th Ave\, Portland\, OR 97220\, first floor\, SE corner n
 ear the bike racks facing Fred Meyer.  Please arrive in time to arrange c
 arpools and be ready to depart at 9:00 AM SHARP!\n\n\n\nPlease register be
 low so we can communicate with you and have all the required paperwork don
 e in advance. You do NOT need to be a member to register and participate 
 – we welcome any and all newcomers.  Please review the expectations for
  day tours on the ONC-PDX website.  I will post in the ONC-PDX forum the 
 specific location on Wednesday night as well as email those who have RSVP
 ’d.\n\n\n\n\n\nContact information: Ted Scheinman\, tedskier@gmail.com\,
   phone: 503-914-9584\n\n\n\n\n\n\n\n\n
CATEGORIES:Cross Country Ski,Day Tours
LOCATION:Gateway Park & Ride Garage\, 1249 NE 99th Ave\, Portland\, OR\, 97
 220\, United States
X-APPLE-STRUCTURED-LOCATION;VALUE=URI;X-ADDRESS=1249 NE 99th Ave\, Portland
 \, OR\, 97220\, United States;X-APPLE-RADIUS=100;X-TITLE=Gateway Park & Ri
 de Garage:geo:0,0
END:VEVENT
BEGIN:VTIMEZONE
TZID:America/Los_Angeles
X-LIC-LOCATION:America/Los_Angeles
BEGIN:STANDARD
DTSTART:20241103T010000
TZOFFSETFROM:-0700
TZOFFSETTO:-0800
TZNAME:PST
END:STANDARD
END:VTIMEZONE
END:VCALENDAR