BEGIN:VCALENDAR
VERSION:2.0
PRODID:-//wp-events-plugin.com//7.0.5//EN
TZID:America/Los_Angeles
X-WR-TIMEZONE:America/Los_Angeles
BEGIN:VEVENT
UID:123@onc-pdx.org
DTSTART;TZID=America/Los_Angeles;VALUE=DATE:20160325
DTEND;TZID=America/Los_Angeles;VALUE=DATE:20160328
DTSTAMP:20151014T151325Z
URL:https://onc-pdx.org/events/three-sisters-hut-to-hut-tour/
SUMMARY:Three Sisters Hut to Hut Tour
DESCRIPTION:Mar 25-27\, Fri to SunAdvanced Intermediate ability levelTry so
 mething different and use your route finding skills! This is a 22 mile Hut
  to Hut\, self guided tour from Dutchman Flat near Mt Bachelor to Three Cr
 eeks Sno Park near Sisters. The route roughly follows the historic Metoliu
 s Windigo Trail (unmarked) at 6500’ elevation\, on the eastern edge of t
 he Three Sisters Wilderness area. We will meet our shuttle Friday at 8:00 
 am at Three Creeks near Sisters. Friday &amp\; Saturday nights will be spe
 nt in huts along the route and Sunday evening we will drive home from Thre
 e Creeks. The terrain will be ungroomed\, rolling to gentle slopes and wil
 l not be subject to avalanche danger. The two huts are fully stocked with 
 food\, beds\, wood stove and cooking facilities. They provide sleeping bag
 s as well\; so you only need to carry a bag liner and your personal gear a
 nd clothing! We can’t anticipate the weather so the snow conditions coul
 d vary from untracked powder to icy and anything in-between.For what is pr
 ovided and photos of the huts\, use this linkSince the distance between hu
 ts is only 8 miles there should be time for additional skiing &amp\; explo
 ring opportunities. Participants should be familiar with route finding ski
 lls and use of a GPS\, however a GPS is not required.Trip Limit: 8\, inclu
 ding 2 leaders.Cost: $270 per person\, includes a shuttle\, two nights in 
 huts\, food for 2 days &amp\; 2 nights with beer included! (see web link a
 bove for “what’s included”) Additional expenses will be carpooling t
 ransportation expense and food &amp\; lodging in Sisters the night before.
 Sign up at the Overnight Trip Extravaganza in October. Afterwards\, you ma
 y sign-up on the ONC-PDX website\, or send your ONC-PDX Overnight Tour app
 lication with a check for $270\, payable to ONC-Portland Chapter\, to trip
  leader\, Susan Watt. For more information contact Susan at: susniam@gmail
 .com or 503 286-6339
CATEGORIES:Cross Country Ski
LOCATION:\, \, 
X-APPLE-STRUCTURED-LOCATION;VALUE=URI;X-ADDRESS=\, ;X-APPLE-RADIUS=100;X-TI
 TLE=:geo:0,0
END:VEVENT
BEGIN:VTIMEZONE
TZID:America/Los_Angeles
X-LIC-LOCATION:America/Los_Angeles
BEGIN:DAYLIGHT
DTSTART:20160313T030000
TZOFFSETFROM:-0800
TZOFFSETTO:-0700
TZNAME:PDT
END:DAYLIGHT
END:VTIMEZONE
END:VCALENDAR