BEGIN:VCALENDAR
VERSION:2.0
PRODID:-//wp-events-plugin.com//7.0.5//EN
TZID:America/Los_Angeles
X-WR-TIMEZONE:America/Los_Angeles
BEGIN:VEVENT
UID:1180@onc-pdx.org
DTSTART;TZID=America/Los_Angeles:20241008T183000
DTEND;TZID=America/Los_Angeles:20241008T210000
DTSTAMP:20241004T225811Z
URL:https://onc-pdx.org/events/the-annual-overnight-trips-extravaganza-202
 5/
SUMMARY:The Annual Overnight Trips Extravaganza!
DESCRIPTION:\n\n\nONC-PDX Monthly Members Meeting\n\n\n\nWhen: Tuesday\, Oc
 tober 8\, 6:30pm – 9:00pm.\n\n\n\nWhere: Multnomah Arts Center\, 7688 SW
  Capitol Hwy\, PortlandFind us in Room #30.  Park in back of the building
  and enter through the doors on the right that say Senior Center.\n\n\n\n*
  Also on Zoom - a link will be sent out to members a few days before the m
 eeting\n\n\n\n6:30 pm: Potluck. Bring a dish to share\, eating utensils\,
  and a drink if you wish7:15 pm: Short Club Meeting7:30ish:  Program: Ove
 rnight Trips Extravaganza - 2025 Ski Season\n\n\n\nAbout the program:\n\n\
 n\nChoices—that’s what you can expect to find in the lineup of Overnig
 ht Trips this season!\n\n\n\nThere are trips close by and trips far afield
 . Trips to drive to\, trips to fly to. Tried and true places to stay and n
 ew places to break in. Familiar favorites and new places to explore and en
 joy.  \n\n\n\nWeekend trips\, midweek trips\, weeklong trips\, and those
  in between. Trips that segue into other trips\, trips that stand alone\, 
 and trips that overlap. Econo trips and deluxe trips. Rustic trips and lux
 ury trips. Trips for every budget\, trips to splurge on. Fun trips and mor
 e fun trips.\n\n\n\nTrips galore and trips ahoy! Trips\, trips and more tr
 ips! \n\n\n\nWe have returning and seasoned leaders and some energetic an
 d new folks too. There are groomed trails for Classic and skate skiing\, u
 ngroomed trails and backcountry\, snowshoeing\, even downhill and other ac
 tivities to accent your stay. (Fat tire biking or hot tub anyone?) \n\n\n
 \nHave a look at the list and make your winter vacation plans. Join us on 
 Oct. 8 at the Multnomah Arts Center to hear all the details\, meet and tal
 k with the leaders\, and just have fun.  Try out the practice signup (fea
 ture coming soon)\, then get ready to sign up on Sunday\, Oct. 13 beginnin
 g at 5 pm.  So until then and without further adieu...  \n\n\n\nThe 202
 5 Overnight Trips Schedule\n\n\n\nP.S. Be sure to join or renew your membe
 rship. Only current members may sign up for overnight trips.\n\n\n\nHope t
 o see you in person or online!\n\n\n\n\n\n\n\n\n\n\n\n\n\n\n
CATEGORIES:Meeting
END:VEVENT
BEGIN:VTIMEZONE
TZID:America/Los_Angeles
X-LIC-LOCATION:America/Los_Angeles
BEGIN:DAYLIGHT
DTSTART:20240310T030000
TZOFFSETFROM:-0800
TZOFFSETTO:-0700
TZNAME:PDT
END:DAYLIGHT
END:VTIMEZONE
END:VCALENDAR