BEGIN:VCALENDAR
VERSION:2.0
PRODID:-//wp-events-plugin.com//7.0.5//EN
TZID:America/Los_Angeles
X-WR-TIMEZONE:America/Los_Angeles
BEGIN:VEVENT
UID:3@onc-pdx.org
DTSTART;TZID=America/Los_Angeles:20140930T190000
DTEND;TZID=America/Los_Angeles:20140930T200000
DTSTAMP:20140929T033736Z
URL:https://onc-pdx.org/events/test-member-meeting/
SUMMARY:Test Member Meeting
DESCRIPTION:Here is the meeting agenda...
LOCATION:Lucky Lab\, 1945 NW Quimby St\, Portland\, OR\, United States
GEO:45.533718;-122.691704
X-APPLE-STRUCTURED-LOCATION;VALUE=URI;X-ADDRESS=1945 NW Quimby St\, Portlan
 d\, OR\, United States;X-APPLE-RADIUS=100;X-TITLE=Lucky Lab:geo:45.533718,
 -122.691704
END:VEVENT
BEGIN:VTIMEZONE
TZID:America/Los_Angeles
X-LIC-LOCATION:America/Los_Angeles
BEGIN:DAYLIGHT
DTSTART:20140309T030000
TZOFFSETFROM:-0800
TZOFFSETTO:-0700
TZNAME:PDT
END:DAYLIGHT
END:VTIMEZONE
END:VCALENDAR