BEGIN:VCALENDAR
VERSION:2.0
PRODID:-//wp-events-plugin.com//7.0.5//EN
TZID:America/Los_Angeles
X-WR-TIMEZONE:America/Los_Angeles
BEGIN:VEVENT
UID:1@onc-pdx.org
DTSTART;TZID=America/Los_Angeles:20141011T180000
DTEND;TZID=America/Los_Angeles:20141013T183000
DTSTAMP:20140929T034136Z
URL:https://onc-pdx.org/events/test-event/
SUMMARY:Test Overnight Event
DESCRIPTION:This is a 10 mile overnight trip.Meet at the Gateway Transit Ce
 nter....
CATEGORIES:Snowshoe
LOCATION:Timberline Lodge\,  27500 W Leg Rd\, Timberline Lodge\, OR\, 97028
 \, United States
GEO:45.249638;-121.733582
X-APPLE-STRUCTURED-LOCATION;VALUE=URI;X-ADDRESS= 27500 W Leg Rd\, Timberlin
 e Lodge\, OR\, 97028\, United States;X-APPLE-RADIUS=100;X-TITLE=Timberline
  Lodge:geo:45.249638,-121.733582
END:VEVENT
BEGIN:VTIMEZONE
TZID:America/Los_Angeles
X-LIC-LOCATION:America/Los_Angeles
BEGIN:DAYLIGHT
DTSTART:20140309T030000
TZOFFSETFROM:-0800
TZOFFSETTO:-0700
TZNAME:PDT
END:DAYLIGHT
END:VTIMEZONE
END:VCALENDAR