BEGIN:VCALENDAR
VERSION:2.0
PRODID:-//wp-events-plugin.com//7.0.5//EN
TZID:America/Los_Angeles
X-WR-TIMEZONE:America/Los_Angeles
BEGIN:VEVENT
UID:2@onc-pdx.org
DTSTART;TZID=America/Los_Angeles:20141019T073000
DTEND;TZID=America/Los_Angeles:20141019T170000
DTSTAMP:20140929T034220Z
URL:https://onc-pdx.org/events/test-day-trip/
SUMMARY:Test Day Trip
DESCRIPTION:This will be a moderate day trip at Hood Meadows...
CATEGORIES:Cross Country Ski
LOCATION:Mt. Hood Meadows\, Mt Hood Meadows Dr\, Mt Hood\, OR\, 97041\, Uni
 ted States
GEO:45.317352;-121.650698
X-APPLE-STRUCTURED-LOCATION;VALUE=URI;X-ADDRESS=Mt Hood Meadows Dr\, Mt Hoo
 d\, OR\, 97041\, United States;X-APPLE-RADIUS=100;X-TITLE=Mt. Hood Meadows
 :geo:45.317352,-121.650698
END:VEVENT
BEGIN:VTIMEZONE
TZID:America/Los_Angeles
X-LIC-LOCATION:America/Los_Angeles
BEGIN:DAYLIGHT
DTSTART:20140309T030000
TZOFFSETFROM:-0800
TZOFFSETTO:-0700
TZNAME:PDT
END:DAYLIGHT
END:VTIMEZONE
END:VCALENDAR