BEGIN:VCALENDAR
VERSION:2.0
PRODID:-//wp-events-plugin.com//7.0.5//EN
TZID:America/Los_Angeles
X-WR-TIMEZONE:America/Los_Angeles
BEGIN:VEVENT
UID:724@onc-pdx.org
DTSTART;TZID=America/Los_Angeles;VALUE=DATE:20200208
DTEND;TZID=America/Los_Angeles;VALUE=DATE:20200209
DTSTAMP:20200207T005341Z
URL:https://onc-pdx.org/events/teacup-back-country-trip/
SUMMARY:Teacup Back Country trip
DESCRIPTION:The Snow Forecast looks great! I am riding the Ski Bus to Teacu
 p Saturday and I am planning on leading an Intermediate Level tour from th
 ere. I am planning on skiing the Tea Cup Tie Trail to Pocket Creek Rd.\, d
 own the road to the Meadow Trail Junction and back to Teacup on the Meadow
  Trail.   Should be a great day! Bring  Skis for backcountry not track s
 kis. I don't think you need metal edges.  If you have questions contact m
 e.Let me know if your interested in joining me.Ken Wenzel   skiwenzel@ho
 tmail.com     Phone 503-729-6571
CATEGORIES:Backcountry Ski/Telemarking
END:VEVENT
BEGIN:VTIMEZONE
TZID:America/Los_Angeles
X-LIC-LOCATION:America/Los_Angeles
BEGIN:STANDARD
DTSTART:20191103T010000
TZOFFSETFROM:-0700
TZOFFSETTO:-0800
TZNAME:PST
END:STANDARD
END:VTIMEZONE
END:VCALENDAR