BEGIN:VCALENDAR
VERSION:2.0
PRODID:-//wp-events-plugin.com//7.0.5//EN
TZID:America/Los_Angeles
X-WR-TIMEZONE:America/Los_Angeles
BEGIN:VEVENT
UID:810@onc-pdx.org
DTSTART;TZID=America/Los_Angeles:20210207T084500
DTEND;TZID=America/Los_Angeles:20210207T170000
DTSTAMP:20210203T002902Z
URL:https://onc-pdx.org/events/superbowl-sunday-day-tour/
SUMMARY:Superbowl Sunday Day Tour
DESCRIPTION:Feeling "meh" about watching the Super Bowl? This outing is for
  you! Taking up to 6 Intermediate skiers on a day outing on Mt. Hood. Trai
 lhead TBD. We will meet at the Edgefield Parking Lot at 8:45 AM sharp! Lea
 ving promptly at 9. Each skier will take his/her own vehicle to the trailh
 ead\, or carpool with partners or persons in their bubble. Please be prepa
 red with all gear in working order and dressed for changeable winter weath
 er. We will select an area on Hood to ski\, based on snow conditions that 
 day. Bring along $10 in case the best place to ski is at Teacup. Please be
  sure you have read and “signed” the Club’s Covid-19 Policy wavier\,
  before meeting.\n\nQuestions? Leader: Christine Bierman 971-325-2874
CATEGORIES:Cross Country Ski
LOCATION:McMenimins Edgefield\, 2126 SW Halsey St\,\, Troutdale\, OR\, 9706
 0\, United States
X-APPLE-STRUCTURED-LOCATION;VALUE=URI;X-ADDRESS=2126 SW Halsey St\,\, Trout
 dale\, OR\, 97060\, United States;X-APPLE-RADIUS=100;X-TITLE=McMenimins Ed
 gefield:geo:0,0
END:VEVENT
BEGIN:VTIMEZONE
TZID:America/Los_Angeles
X-LIC-LOCATION:America/Los_Angeles
BEGIN:STANDARD
DTSTART:20201101T010000
TZOFFSETFROM:-0700
TZOFFSETTO:-0800
TZNAME:PST
END:STANDARD
END:VTIMEZONE
END:VCALENDAR