BEGIN:VCALENDAR
VERSION:2.0
PRODID:-//wp-events-plugin.com//7.0.5//EN
TZID:America/Los_Angeles
X-WR-TIMEZONE:America/Los_Angeles
BEGIN:VEVENT
UID:1016@onc-pdx.org
DTSTART;TZID=America/Los_Angeles:20230212T100000
DTEND;TZID=America/Los_Angeles:20230212T170000
DTSTAMP:20230206T035400Z
URL:https://onc-pdx.org/events/superbowl-day-ski-outing-and-tailgate-potlu
 ck/
SUMMARY:Superbowl Day Ski Outing and Tailgate Potluck
DESCRIPTION:Tour Title: Superbowl Day Ski Outing and Tailgate Potluck\nTour
  Date: Sunday\, February 12\, 2023\nMeeting Time and Place: 10 a.m. at Gla
 cier View SnoPark in Government Camp\n\nTour Description and Anything Else
 : Let's enjoy a SUPERb ski outing on February 12th at Mt. Hood on a rare d
 ay with less traffic and crowds! Depending on conditions\, we'll ski the C
 rosstown Loop and Summit trails in Government Camp and potluck hearty snac
 ks at the Glacier View parking lot afterwards. We might even dance! Plan B
  would be meeting and skiing at Trillium Lake. You would be notified if lo
 w snow on the Crosstown Loop forces us to switch to Trillium Lake.\n\nTour
  Difficulty: Intermediate. Approximate length of the outing at either SnoP
 ark is 5 miles. Terrain: Mostly flat or a gentle grade. We would ski at a 
 relaxed pace.\n\nPlease come prepared for wintry conditions---carrying pro
 per gear and clothes\, and adequate water---and bring a lunch or snacks fo
 r a break at the midway point at the Summit Lodge. This is where we will c
 ross Highway 26 on foot to reach the Summit Trailhead\, recrossing it once
  again at the end to return to Glacier View.\n\nFor the potluck\, please b
 ring a hearty snack to share with the group. This could be nuts\, cut frui
 t\, vegetables and dip\, cheese and crackers\, olives\, etc. Enough for ab
 out 6-8 persons. Also\, pack your own drink\, a plate and table service fo
 r yourself\, and a camp chair\, if you like.\n\nTour Leader:&nbsp\; Christ
 ineBierman&nbsp\; Contact Info: 971-325-2874 calls or texts
CATEGORIES:Cross Country Ski,Day Tours
END:VEVENT
BEGIN:VTIMEZONE
TZID:America/Los_Angeles
X-LIC-LOCATION:America/Los_Angeles
BEGIN:STANDARD
DTSTART:20221106T010000
TZOFFSETFROM:-0700
TZOFFSETTO:-0800
TZNAME:PST
END:STANDARD
END:VTIMEZONE
END:VCALENDAR