BEGIN:VCALENDAR
VERSION:2.0
PRODID:-//wp-events-plugin.com//7.0.5//EN
TZID:America/Los_Angeles
X-WR-TIMEZONE:America/Los_Angeles
BEGIN:VEVENT
UID:848@onc-pdx.org
DTSTART;TZID=America/Los_Angeles;VALUE=DATE:20220304
DTEND;TZID=America/Los_Angeles;VALUE=DATE:20220308
DTSTAMP:20211120T152944Z
URL:https://onc-pdx.org/events/sunriver-womens-weekend-trip/
SUMMARY:Sunriver Women's Weekend Trip
DESCRIPTION:Trip Rating:&nbsp\; All Abilities Ski\nBasecamp:&nbsp\; Sunrive
 r\, Oregon\n\nCome and join an all women’s ski weekend in beautiful Sunr
 iver.&nbsp\; We will have numerous skiing choices\, both groomed and ungro
 omed:&nbsp\; Mt. Bachelor\, Virginia Meissner\, Swampy Lakes and Dutchman 
 Flat. Depending on weather and ski conditions\, there will be opportunitie
 s for hiking\, walking and shopping.\n\nWe will be staying in Sunriver at 
 a 5 bedroom\, 4 bathroom home\, with a hot tub. There are 2 king rooms\, 1
  queen room and 4 twins\, plus a bonus loft area with a double futon sofa.
  &nbsp\; Dinners will be partnered each night to be shared.&nbsp\; All oth
 er meals are the responsibility of each participant.&nbsp\; More info abou
 t the gorgeous house here:&nbsp\; https://www.vrbo.com/1214171&nbsp\;&nbsp
 \;\n\nTrip Limit: 10 participants including leader.\nCost: $205 per person
  – double room occupancy for 3 nights lodging. Additional expenses inclu
 de optional trail passes\, snow park permits and meals.\nCarpool miles: 36
 0 miles roundtrip from Portland\, plus mileage to ski areas.\nTrip Leader:
  &nbsp\; Nancy Neuman\, nanc0301@yahoo.com
CATEGORIES:Cross Country Ski
END:VEVENT
BEGIN:VTIMEZONE
TZID:America/Los_Angeles
X-LIC-LOCATION:America/Los_Angeles
BEGIN:STANDARD
DTSTART:20211107T010000
TZOFFSETFROM:-0700
TZOFFSETTO:-0800
TZNAME:PST
END:STANDARD
END:VTIMEZONE
END:VCALENDAR