BEGIN:VCALENDAR
VERSION:2.0
PRODID:-//wp-events-plugin.com//7.0.5//EN
TZID:America/Los_Angeles
X-WR-TIMEZONE:America/Los_Angeles
BEGIN:VEVENT
UID:846@onc-pdx.org
DTSTART;TZID=America/Los_Angeles;VALUE=DATE:20220207
DTEND;TZID=America/Los_Angeles;VALUE=DATE:20220211
DTSTAMP:20220126T133807Z
URL:https://onc-pdx.org/events/sunriver-without-the-crowds/
SUMMARY:Sunriver Without the Crowds
DESCRIPTION:Trip Rating:&nbsp\; Easy to Intermediate Skiing\nBasecamp:&nbsp
 \; Sunriver\, Oregon\n\nLet's enjoy a mid-week ski trip far from the maddi
 ng crowd. On the way over (and on the way back!) we could ski the Ray Bens
 on area. The ski areas have a range of trails from easier to a little more
  challenging.&nbsp\; There are many ski spots in the Mt. Bachelor area\, l
 ike\, Swampy Lakes\, Virginia Meisner and Dutchman Flat\, to explore depen
 ding upon snow level.&nbsp\; Maybe this is the year we get to ski Edison B
 utte – since it's at a lower elevation snow is usually marginal but it h
 as several trails.\n\n\nThe house where we'll stay has 2 king beds\, 2 bun
 k beds and 2 twin beds with 3 bathrooms and a hot tub\, thus accommodation
 s for 8 people. There will be fantastic food\, fun\, camaraderie and a cho
 colate fest on Wednesday night. Let's ski until our (3) pins fall off!\n\n
 \nTrip limit:&nbsp\; 8 participants including trip leader\nCost: $180/memb
 er\, per person.&nbsp\; Includes 4 nights lodging.&nbsp\; Excludes cost of
  travel and meals.\nCarpool miles:&nbsp\; 380 miles roundtrip from Portlan
 d plus more miles to ski areas.\nTrip leader: &nbsp\;&nbsp\;Laurel Dickie\
 , laureldickie@hotmail.com
CATEGORIES:Cross Country Ski
END:VEVENT
BEGIN:VTIMEZONE
TZID:America/Los_Angeles
X-LIC-LOCATION:America/Los_Angeles
BEGIN:STANDARD
DTSTART:20211107T010000
TZOFFSETFROM:-0700
TZOFFSETTO:-0800
TZNAME:PST
END:STANDARD
END:VTIMEZONE
END:VCALENDAR