BEGIN:VCALENDAR
VERSION:2.0
PRODID:-//wp-events-plugin.com//7.0.5//EN
TZID:America/Los_Angeles
X-WR-TIMEZONE:America/Los_Angeles
BEGIN:VEVENT
UID:1294@onc-pdx.org
DTSTART;TZID=America/Los_Angeles;VALUE=DATE:20260202
DTEND;TZID=America/Los_Angeles;VALUE=DATE:20260206
DTSTAMP:20260109T015451Z
URL:https://onc-pdx.org/events/sunriver-without-the-crowds-2nd-wave/
SUMMARY:Sunriver Without The Crowds - 2nd Wave
DESCRIPTION:Deschutes National Forest\, OR\nFebruary 2 - 5\, 2026\, Mon - T
 hu\nAll Abilities\n\nCome enjoy a variety of skiing trails in the Mt. Bach
 elor area. We'll be staying at 11 Dogleg Lane. The spacious kitchen and di
 ning and living room areas offer an easy flow for us on this trip. We also
  have a hot tub to enjoy under the stars après ski. There is a large gara
 ge and driveway for parking. Carpooling is preferable so we don't look lik
 e a parking lot.\n\nMany Mt. Bachelor trails are just a 30-minute or so dr
 ive from this house. Depending upon skiers desires and ski level\, we may 
 be going in multiple groups to ski areas each day. Choices include: Virgin
 ia Meisner and Bachelor Nordic (groomed areas) and Swampy Lakes and Dutchm
 an Flats (forest trails).\n\nOn past trips there has been a variety of ent
 ertainment: card games\, music\, group Zoom to club meetings\, going to Be
 nd for shopping or eating out\, wine and/or chocolate tasting\, walking on
  Sunriver trails\, etc. You are free to create the trip you desire.\n\nTri
 p limit:  9 participants\, including trip leader\nCost:  $ 205 per perso
 n.\nTravel miles:  From Portland\, 360 miles round trip\, plus mileage to
  the ski areas.  Oregon Sno-Park pass required for vehicles.\nTrip Leader
 :  Mary Ellen Fitzgerald\, mefitz97@gmail.com
CATEGORIES:Backcountry Ski/Telemarking,Cross Country Ski
END:VEVENT
BEGIN:VTIMEZONE
TZID:America/Los_Angeles
X-LIC-LOCATION:America/Los_Angeles
BEGIN:STANDARD
DTSTART:20251102T010000
TZOFFSETFROM:-0700
TZOFFSETTO:-0800
TZNAME:PST
END:STANDARD
END:VTIMEZONE
END:VCALENDAR