BEGIN:VCALENDAR
VERSION:2.0
PRODID:-//wp-events-plugin.com//7.0.5//EN
TZID:America/Los_Angeles
X-WR-TIMEZONE:America/Los_Angeles
BEGIN:VEVENT
UID:1270@onc-pdx.org
DTSTART;TZID=America/Los_Angeles;VALUE=DATE:20260202
DTEND;TZID=America/Los_Angeles;VALUE=DATE:20260206
DTSTAMP:20251020T180501Z
URL:https://onc-pdx.org/events/sunriver-without-the-crowds-2026/
SUMMARY:Sunriver Without The Crowds
DESCRIPTION:Deschutes National Forest\, OR\nFebruary 2 - 5\, 2026\, Mon - T
 hu\nBeginner to Advanced\n\nCome enjoy a variety of skiing trails in the M
 t. Bachelor area by staying with the club in a 5-bedroom house with 5 bath
 s and a hot tub to soothe sore muscles. The room configuration is conduciv
 e to 3 couples and 4 singles (1 king\, 2 queens\, and 2 rooms with 2 twins
  each).\n\nThe spacious\, fully equipped kitchen (with a second refrigerat
 or in the garage) and dining and living room areas offer an easy flow for 
 the 10 skiers on this trip. There is a 3-car garage and a large driveway f
 or parking. Carpooling is preferable so we don't look like a parking lot.\
 n\nMany Mt. Bachelor trails are just a 30-minute or so drive from this hou
 se. Depending upon skiers desires and ski level\, we may be going in multi
 ple groups to ski areas each day. Choices include: Virginia Meisner and Ba
 chelor Nordic (groomed areas) and Swampy Lakes and Dutchman Flats (forest 
 trails).\n\nOn past trips there has been a variety of entertainment: card 
 games\, music\, group Zoom to club meetings\, going to Bend for shopping o
 r eating out\, wine and/or chocolate tasting\, walking on Sunriver trails\
 , etc. You are free to create the trip you desire.\n\nTrip limit:  10 par
 ticipants\, including trip leader\nCost:  $ 230 per person.\nTravel miles
 :  From Portland\, 360 miles round trip\, plus mileage to the ski areas.
   Oregon Sno-Park pass required for vehicles.\nTrip Leader:  Laurel Dic
 kie\, laureldickie@hotmail.com
CATEGORIES:Backcountry Ski/Telemarking,Cross Country Ski
END:VEVENT
BEGIN:VTIMEZONE
TZID:America/Los_Angeles
X-LIC-LOCATION:America/Los_Angeles
BEGIN:STANDARD
DTSTART:20251102T010000
TZOFFSETFROM:-0700
TZOFFSETTO:-0800
TZNAME:PST
END:STANDARD
END:VTIMEZONE
END:VCALENDAR