BEGIN:VCALENDAR
VERSION:2.0
PRODID:-//wp-events-plugin.com//7.0.5//EN
TZID:America/Los_Angeles
X-WR-TIMEZONE:America/Los_Angeles
BEGIN:VEVENT
UID:953@onc-pdx.org
DTSTART;TZID=America/Los_Angeles;VALUE=DATE:20230206
DTEND;TZID=America/Los_Angeles;VALUE=DATE:20230210
DTSTAMP:20231012T154358Z
URL:https://onc-pdx.org/events/sunriver-without-the-crowds-2023/
SUMMARY:Sunriver Without the Crowds
DESCRIPTION:Sunriver\, Oregon\nFeb. 6-9\,&nbsp\; Mon-Thu\nEasy to Intermedi
 ate Skiing\n\nCome enjoy Sunriver without the crowds by skiing "mid-week"\
 , the first week of February 2023.\n\nWe will be staying in a large beauti
 ful house where the club has stayed before. This place has 5 bedrooms and 
 5 bathrooms plus common areas with good\, open space so we won't necessari
 ly be bumping into each other. There is a hot tub to relax in after a "har
 d" day of skiing in one of the many beautiful ski areas available in the M
 t. Bachelor area. Since this house has 2 king beds and 1 queen bed\, it wo
 uld be great if some couples sign up. Four twin beds are available as well
 .\n\nThe area around Sunriver offers a variety of places to ski\, ranging 
 from beginner to intermediate. From lowest elevation (Edison Butte) to hig
 hest elevation (Bachelor Nordic groomed area for a fee). Many areas offer 
 several trail systems for short or long loops\, including Virginia Meissne
 r Nordic\, Swampy Lakes\, and the Dutchman Flats backcountry.\n\nOn this t
 rip\, fun will be mandatory and chocolate will be optional.\n\nHave a look
  at some fun from the past\, click here.\n\nTrip limit:&nbsp\; 10 particip
 ants including trip leader\nCost: $180/member\, per person.&nbsp\; Include
 s 3 nights lodging.&nbsp\; Excludes cost of travel and meals.&nbsp\;&nbsp\
 ;\nCarpool miles:&nbsp\; 380 miles round trip from Portland plus more mile
 s to ski areas.\nTrip leader: &nbsp\;&nbsp\;Laurel Dickie\, laureldickie@h
 otmail.com
CATEGORIES:Cross Country Ski
END:VEVENT
BEGIN:VTIMEZONE
TZID:America/Los_Angeles
X-LIC-LOCATION:America/Los_Angeles
BEGIN:STANDARD
DTSTART:20221106T010000
TZOFFSETFROM:-0700
TZOFFSETTO:-0800
TZNAME:PST
END:STANDARD
END:VTIMEZONE
END:VCALENDAR