BEGIN:VCALENDAR
VERSION:2.0
PRODID:-//wp-events-plugin.com//7.0.5//EN
TZID:America/Los_Angeles
X-WR-TIMEZONE:America/Los_Angeles
BEGIN:VEVENT
UID:647@onc-pdx.org
DTSTART;TZID=America/Los_Angeles;VALUE=DATE:20200214
DTEND;TZID=America/Los_Angeles;VALUE=DATE:20200218
DTSTAMP:20191016T114546Z
URL:https://onc-pdx.org/events/sunriver-prez-day-2020/
SUMMARY:Sunny\, Snowy Sunriver in February
DESCRIPTION:February 14 - 17\, Friday thru Monday (Valentine’s thru Presi
 dent’s Day)Sunriver\, ORTrip Rating:&nbsp\; Intermediate FocusSunriver i
 s oft’ described as being on the sunny side of the cascades.&nbsp\; But 
 in mid-February it can deliver on the fluffy white stuff!&nbsp\; This is p
 erhaps the prime time to hit multiple ski trails in and around Mt. Bachelo
 r\, all in a half day’s drive from Portland.&nbsp\; With multiple sno-pa
 rks plus the Bachelor Nordic Center\, it gives us a lot to choose from\, i
 ncluding groomed trails\, skating\, and backcountry terrain to test your a
 bility.&nbsp\; Perfect for all skiing styles.&nbsp\; Keep the options open
  too because the area has great hiking\, biking\, and other sites nearby.&
 nbsp\; Our spacious 5BR/5BA accommodations feature a luxury kitchen\, hot 
 tub\, fireplace\, BBQ\, washer/dryer\, game room\, and more.&nbsp\; The re
 sort itself offers restaurants\, art and gift shops\, ski and bike rentals
 \, and local supermarkets.&nbsp\; Explore the area with a walk or bike rid
 e on the paved paths to the village center\, watch the wildlife around the
  Deschutes River\, catch a night light show at the Oregon Observatory\, or
  just relax after a satisfying day on the trails.We will carpool from Port
 land and to the ski areas each day\, about 20 miles from our house.&nbsp\;
  Dinners are infamous ski trip potluck style.&nbsp\; Everyone does their o
 wn breakfast and lunch.&nbsp\; Other than sno-park permits for drivers\, w
 e can ski for free on most of the trails\, pay for the groomed trails at t
 he Nordic Center\, or by donation at Virginia Meisner.It's possible to tac
 k on the Sisters Hut-to-Hut backcountry ski with this trip and spend a wee
 k in the Central Cascades without having to drive very far.Trip limit: &nb
 sp\;10 participants including trip leader.Cost:&nbsp\; $195/member\, per p
 erson.&nbsp\; Includes 3 nights lodgingCarpool miles:&nbsp\; 380 miles rou
 ndtrip from Portland plus excursions to trailheads.Trip leader: Richard Cr
 imi\, richard_crimi@hotmail.com
CATEGORIES:Cross Country Ski
END:VEVENT
BEGIN:VTIMEZONE
TZID:America/Los_Angeles
X-LIC-LOCATION:America/Los_Angeles
BEGIN:STANDARD
DTSTART:20191103T010000
TZOFFSETFROM:-0700
TZOFFSETTO:-0800
TZNAME:PST
END:STANDARD
END:VTIMEZONE
END:VCALENDAR