BEGIN:VCALENDAR
VERSION:2.0
PRODID:-//wp-events-plugin.com//7.0.5//EN
TZID:America/Los_Angeles
X-WR-TIMEZONE:America/Los_Angeles
BEGIN:VEVENT
UID:22@onc-pdx.org
DTSTART;TZID=America/Los_Angeles;VALUE=DATE:20150213
DTEND;TZID=America/Los_Angeles;VALUE=DATE:20150218
DTSTAMP:20150206T003419Z
URL:https://onc-pdx.org/events/sunriver-presidents-weekend/
SUMMARY:Sunriver\, OR -- President's Weekend
DESCRIPTION:Enjoy Sunriver over MLK Weekend. The snow in Central Oregon is 
 known to be powdery\, plentiful and dry. Options for skiing vary from the 
 groomed trails of Mt. Bachelor Nordic Center to advanced backcountry tours
  out toward Broken Top. Sunriver also offers downhill skiing\, ice-skating
  and shopping in the resort or nearby Bend. This is your opportunity to st
 ay at Sunriver\, a wonderful resort about 17 miles south of Bend. We have 
 a comfortable well-appointed rental house with a hot tub. We have the hous
 e for four nights.Trip limit: 8 participants (includes the leader)Cost: $2
 00 per person\; you must be a current ONC member before signing up for thi
 s trip.Contact leader for space availability. Send an ONC-PDx overnight to
 ur application and $200 check payable to ONC-Portland Chapter to the trip 
 leader: Mike Faden\, 33 NE San Rafael St\, Portland\, OR 97212. For more i
 nfo email Mike at mikefaden@gmail.com or call 503 284 6315.
CATEGORIES:Cross Country Ski
END:VEVENT
BEGIN:VTIMEZONE
TZID:America/Los_Angeles
X-LIC-LOCATION:America/Los_Angeles
BEGIN:STANDARD
DTSTART:20141102T010000
TZOFFSETFROM:-0700
TZOFFSETTO:-0800
TZNAME:PST
END:STANDARD
END:VTIMEZONE
END:VCALENDAR