BEGIN:VCALENDAR
VERSION:2.0
PRODID:-//wp-events-plugin.com//7.0.5//EN
TZID:America/Los_Angeles
X-WR-TIMEZONE:America/Los_Angeles
BEGIN:VEVENT
UID:23@onc-pdx.org
DTSTART;TZID=America/Los_Angeles;VALUE=DATE:20150212
DTEND;TZID=America/Los_Angeles;VALUE=DATE:20150217
DTSTAMP:20150206T002845Z
URL:https://onc-pdx.org/events/sunriver-presidents-weekend-family-friendly
 /
SUMMARY:Sunriver - President's Weekend - Family Friendly
DESCRIPTION:ONC families with kids of all ages and skill levels will enjoy 
 a fun-filled three-day Presidents Day weekend at Sunriver. There will be p
 lenty of hot chocolate to go around! Depending on the various skill levels
  and interest\, we can ski at the Mt. Bachelor Nordic Center\, the Virgini
 a Meissner trails or the various Forest Service trails. Beginners can take
  lessons at Mt. Bachelor. When we’re not skiing we’ll enjoy communal d
 inners\, go sledding\, build snow sculptures and relax among old and new f
 riends. This trip will fill up fast!Trip limit: 4 to 6 families depending 
 on which house we rent.Cost: $155 per adult member with first child free\,
  additional children $25. You must be a current ONC-PDx member before sign
 ing up for this trip.For more info contact trip leaders Amy Blumenberg and
  Chris Potter 503 241-2768 ablumenberg@comcast.net
CATEGORIES:Cross Country Ski
END:VEVENT
BEGIN:VTIMEZONE
TZID:America/Los_Angeles
X-LIC-LOCATION:America/Los_Angeles
BEGIN:STANDARD
DTSTART:20141102T010000
TZOFFSETFROM:-0700
TZOFFSETTO:-0800
TZNAME:PST
END:STANDARD
END:VTIMEZONE
END:VCALENDAR