BEGIN:VCALENDAR
VERSION:2.0
PRODID:-//wp-events-plugin.com//7.0.5//EN
TZID:America/Los_Angeles
X-WR-TIMEZONE:America/Los_Angeles
BEGIN:VEVENT
UID:847@onc-pdx.org
DTSTART;TZID=America/Los_Angeles;VALUE=DATE:20220218
DTEND;TZID=America/Los_Angeles;VALUE=DATE:20220222
DTSTAMP:20211013T001310Z
URL:https://onc-pdx.org/events/sunriver-presidents-day-weekend/
SUMMARY:President's Day Weekend at Sunriver
DESCRIPTION:Trip Rating:&nbsp\; All Abilities – Mostly groomed trails\, S
 nowshoeing Possible\nBasecamp:&nbsp\; Sunriver\, Oregon\n\nJoin us for two
  days of skiing over the President’s Day weekend.&nbsp\; This is prime t
 ime skiing in the Central Cascades.&nbsp\; Weather permitting we have opti
 ons to ski the groomed trails at Mount Bachelor Nordic Center (56 km of gr
 oomed trails) or Virginia Meissner (40 km of groomed trails)\, in addition
  to the ungroomed trails around Swampy Lakes or other suggested locations.
 \n\nBoth Virginia Meissner and Swampy Lakes offer snowshoeing opportunitie
 s.&nbsp\; This trip requires a minimum of two people for snowshoeing to en
 sure safety.\n\nWe will be staying in Sunriver at a four-bedroom home with
  a hot tub.&nbsp\; Dinners will be potluck style with all other meals the 
 responsibility of each participant.\n\nTrip limit:&nbsp\; 8 participants (
 including trip leader)\nCost:&nbsp\; $235 double room occupancy for 3 nigh
 ts lodging.&nbsp\; Additional expenses include trail pass fees\, travel ex
 penses\, Sno-park permit and meals.\nCarpool miles:&nbsp\; From Portland\,
  360 miles roundtrip\, plus mileage to the ski areas\nTrip Leader: &nbsp\;
  Linda Wilson\,&nbsp\; wilsonln@msn.com
CATEGORIES:Cross Country Ski,Snowshoe
END:VEVENT
BEGIN:VTIMEZONE
TZID:America/Los_Angeles
X-LIC-LOCATION:America/Los_Angeles
BEGIN:STANDARD
DTSTART:20211107T010000
TZOFFSETFROM:-0700
TZOFFSETTO:-0800
TZNAME:PST
END:STANDARD
END:VTIMEZONE
END:VCALENDAR