BEGIN:VCALENDAR
VERSION:2.0
PRODID:-//wp-events-plugin.com//7.0.5//EN
TZID:America/Los_Angeles
X-WR-TIMEZONE:America/Los_Angeles
BEGIN:VEVENT
UID:956@onc-pdx.org
DTSTART;TZID=America/Los_Angeles;VALUE=DATE:20230217
DTEND;TZID=America/Los_Angeles;VALUE=DATE:20230221
DTSTAMP:20230105T210724Z
URL:https://onc-pdx.org/events/sunriver-president-days-weekend/
SUMMARY:Sunriver Presidents' Day Weekend
DESCRIPTION:Sunriver\, Oregon\nFeb. 17-20\,&nbsp\; Fri-Mon\nAll Abilities 
 – Mostly groomed trails\, Snowshoeing Possible&nbsp\;\n\nJoin us for two
  days of skiing over the President’s weekend.&nbsp\; This is prime time 
 skiing in the Central Cascades.&nbsp\; Weather permitting\, we have option
 s to ski the groomed trails at Mount Bachelor Nordic Center (56 km of groo
 med trails) or Virginia Meissner Nordic (40 km of groomed trails)\, in add
 ition to the ungroomed trails around Swampy Lakes or other suggested locat
 ions.&nbsp\;&nbsp\;&nbsp\;\n\nBoth Virginia Meissner and Swampy Lakes offe
 r snowshoeing opportunities.&nbsp\; This trip requires a minimum of two pe
 ople for snowshoeing to ensure safety.\n\nWe will be staying in Sunriver a
 t a four-bedroom (+loft)\, 3 bath home with a hot tub. Dinners will be pot
 luck style with all other meals the responsibility of each participant.\n\
 nTrip limit:&nbsp\; 9 participants including trip leader\nCost:&nbsp\; $23
 5 double room occupancy for 3 nights lodging.&nbsp\; Additional expenses i
 nclude trail pass fees\, travel expenses\, Sno-park permit and meals.\nCar
 pool miles:&nbsp\; From Portland\, 360 miles roundtrip\, plus mileage to t
 he ski areas\nTrip Leader: &nbsp\; Marty Pike\, pike1765@comcast.net\nCo-l
 eader:&nbsp\; Kacey Jones\, kcj14@aol.com 
CATEGORIES:Cross Country Ski,Skate Ski,Snowshoe
END:VEVENT
BEGIN:VTIMEZONE
TZID:America/Los_Angeles
X-LIC-LOCATION:America/Los_Angeles
BEGIN:STANDARD
DTSTART:20221106T010000
TZOFFSETFROM:-0700
TZOFFSETTO:-0800
TZNAME:PST
END:STANDARD
END:VTIMEZONE
END:VCALENDAR