BEGIN:VCALENDAR
VERSION:2.0
PRODID:-//wp-events-plugin.com//7.0.5//EN
TZID:America/Los_Angeles
X-WR-TIMEZONE:America/Los_Angeles
BEGIN:VEVENT
UID:113@onc-pdx.org
DTSTART;TZID=America/Los_Angeles;VALUE=DATE:20160115
DTEND;TZID=America/Los_Angeles;VALUE=DATE:20160120
DTSTAMP:20151014T143030Z
URL:https://onc-pdx.org/events/sunriver-or-an-mlk-tradition/
SUMMARY:Sunriver\, OR\, an MLK Tradition
DESCRIPTION:Jan 15-19\, Fri-TuesAll Abilities Ski\, Hike &amp\; Otherwise R
 ecreateJoin the Oregon Nordic Club for our annual Martin Luther King Weeke
 nd ski trip to Sunriver. We’ve always had good snow in January\, and the
  Nordic Center and backcountry will be yearning for your ski boots. We sho
 uld always be prepared for a multisport trip\, to include day hikes. Peopl
 e who bring bikes can cruise the paved trails at Sunriver or ride the rura
 l roads around it\, if there is no snow or ice at our elevation.We’ll ar
 rive Friday evening for a 4-night stay\, and decide each evening what peop
 le are interested in doing. We’ll organize ourselves according to intere
 sts\, carpool to the mountain or trailheads\, and share potluck dinners. N
 on-skiing options are cycling\, walking the bike paths in Sunriver\, visit
 ing the High Desert Museum\, the bookstore\, or the observatory\, if it’
 s open. Skiers and hikers should bring maps and ideas. There’s something
  for everyone here. Join us. Maps of Swampy Lakes\, Dutchman Flat Area\, E
 dison Butte and the Newberry Crater Areas are available at hereTrip limit:
  8 participants (including the leader)Cost: $215 /member per person\, incl
 udes four nights lodging (so you can stay late on Monday).Sign up at the O
 ctober 13th Overnight Trip Extravaganza. Afterwards\, you may sign-up on t
 he ONC-PDX website or send your overnight tour application and a check for
  $215 payable to ONC-Portland Chapter\, to Christine Bierman (contact lead
 er for their address to mail form).  For info contact the leader Christin
 e at sisu1956@gmail.com or by phone at (971) 325-2874.
CATEGORIES:Biking,Cross Country Ski,Hiking,Skate Ski
LOCATION:\, \, 
X-APPLE-STRUCTURED-LOCATION;VALUE=URI;X-ADDRESS=\, ;X-APPLE-RADIUS=100;X-TI
 TLE=:geo:0,0
END:VEVENT
BEGIN:VTIMEZONE
TZID:America/Los_Angeles
X-LIC-LOCATION:America/Los_Angeles
BEGIN:STANDARD
DTSTART:20151101T010000
TZOFFSETFROM:-0700
TZOFFSETTO:-0800
TZNAME:PST
END:STANDARD
END:VTIMEZONE
END:VCALENDAR