BEGIN:VCALENDAR
VERSION:2.0
PRODID:-//wp-events-plugin.com//7.0.5//EN
TZID:America/Los_Angeles
X-WR-TIMEZONE:America/Los_Angeles
BEGIN:VEVENT
UID:12@onc-pdx.org
DTSTART;TZID=America/Los_Angeles;VALUE=DATE:20150116
DTEND;TZID=America/Los_Angeles;VALUE=DATE:20150120
DTSTAMP:20141203T012149Z
URL:https://onc-pdx.org/events/sunriver-mlk-weekend/
SUMMARY:Sunriver\, OR  (MLK Weekend)
DESCRIPTION:Enjoy Sunriver over MLK Weekend! The snow in Central Oregon is 
 known to be powdery\, plentiful and dry. Options for skiing vary from the 
 groomed trails of Mt. Bachelor Nordic Center to advanced backcountry tours
  out toward Broken Top. Sunriver also offers downhill skiing\, ice-skating
  and shopping in the resort or nearby Bend. This is your opportunity to st
 ay at Sunriver\, a wonderful resort about 17 miles south of Bend. We have 
 a comfortable well-appointed rental house with a hot tub for three nights.
 Trip limit: 8 participants\, including the leaderCost: $150 per person\; y
 ou must be a current ONC member before signing up for this trip.Contact le
 ader for space availability.  Send an ONC-PDx overnight tour application 
 and a $150 check payable to ONC-Portland Chapter to the trip leader Ken We
 nzel\, 10322 NW Alpenglow Way\, Portland\, OR 97229. For info contact Ken 
 503 297-2958 skiwenzel@hotmail.com. 
CATEGORIES:Backcountry Ski/Telemarking,Cross Country Ski
END:VEVENT
BEGIN:VTIMEZONE
TZID:America/Los_Angeles
X-LIC-LOCATION:America/Los_Angeles
BEGIN:STANDARD
DTSTART:20141102T010000
TZOFFSETFROM:-0700
TZOFFSETTO:-0800
TZNAME:PST
END:STANDARD
END:VTIMEZONE
END:VCALENDAR