BEGIN:VCALENDAR
VERSION:2.0
PRODID:-//wp-events-plugin.com//7.0.5//EN
TZID:America/Los_Angeles
X-WR-TIMEZONE:America/Los_Angeles
BEGIN:VEVENT
UID:1264@onc-pdx.org
DTSTART;TZID=America/Los_Angeles;VALUE=DATE:20260223
DTEND;TZID=America/Los_Angeles;VALUE=DATE:20260227
DTSTAMP:20260220T001035Z
URL:https://onc-pdx.org/events/sunriver-midweek-2026/
SUMMARY:Sunriver Midweek
DESCRIPTION:Sunriver\, OR\nFebruary 23 - 26\, 2026\, Mon - Thu\nIntermediat
 e – Advanced Skiing\n\nThis is a second midweek trip to enjoy skiing wit
 hout the crowds in the Mt. Bachelor area. There is something for everyone 
 in this area: groomed trails\, skating\, and backcountry or a mix. Ski Mt.
  Bachelor Nordic\, Virginia Meisner\, Swampy Lakes\, or Dutchman Flats. If
  there is interest and the conditions are right\, like last year\, we can 
 set up a carpool to ski the Flagline Trail from Dutchman Flats to Swampy.\
 n\nThis trip is flexible\, allowing for skiing on the way over and/or on t
 he way back in the Ray Benson area.\n\n(While the trip is rated for an int
 ermediate skier or above\, there is skiing for novices if you sign up with
  a ski partner.)\n\nThe house where we'll stay has 2 kings\, 1 queen\, and
  4 twin beds (in two rooms) with 5 bathrooms and a hot tub. There is a lar
 ge common area and kitchen. Dinners will be communal. Carpooling is strong
 ly encouraged.\n\nTrip limit: 10 participants including trip leader\nCost:
   $ 230 per member/person. Includes 3 nights lodging.\nTravel miles:  Fr
 om Portland\, 380 miles round trip\, plus mileage to the ski areas. Oregon
  Sno-Park pass required for vehicles.\nTrip Leader:  Mary Hepokoski\, hep
 omp8@comcast.net
CATEGORIES:Backcountry Ski/Telemarking,Cross Country Ski,Skate Ski
END:VEVENT
BEGIN:VTIMEZONE
TZID:America/Los_Angeles
X-LIC-LOCATION:America/Los_Angeles
BEGIN:STANDARD
DTSTART:20251102T010000
TZOFFSETFROM:-0700
TZOFFSETTO:-0800
TZNAME:PST
END:STANDARD
END:VTIMEZONE
END:VCALENDAR