BEGIN:VCALENDAR
VERSION:2.0
PRODID:-//wp-events-plugin.com//7.0.5//EN
TZID:America/Los_Angeles
X-WR-TIMEZONE:America/Los_Angeles
BEGIN:VEVENT
UID:1174@onc-pdx.org
DTSTART;TZID=America/Los_Angeles;VALUE=DATE:20250203
DTEND;TZID=America/Los_Angeles;VALUE=DATE:20250207
DTSTAMP:20250122T014738Z
URL:https://onc-pdx.org/events/sunriver-midweek-2025/
SUMMARY:Sunriver Without The Crowds 2025
DESCRIPTION:\nSunriver\, OregonFeb. 3-6\,  Mon-ThuAll Abilities   \n\n\n
 \nDo you enjoy skiing without the crowds?  Come join this mid-week trip. 
 The snow in Central Oregon is known to be powdery\, plentiful and dry.  S
 o join your fellow cross-country skiers to the sunny side of the state for
  three nights at Sunriver Resort 20 miles south of Bend for three plus day
 s of skiing at and around Mt. Bachelor.  We can ski from any of the Sno-p
 arks near the mountain or at the Mt. Bachelor Nordic Center.  There is so
 mething for everyone in this area\; groomed trails\, skating\, and backcou
 ntry or a mix.\nWe will carpool to Sunriver and to the trailheads each day
  and will share potluck dinners.  Everyone will provide their own breakfa
 sts and lunches.  Relax after skiing by the fireplace or in our house’s
  hot tub. \nThis trip is so flexible allowing for skiing on the way over 
 and/or back\, whether you drive over Mt. Hood or Santiam Pass.  If the sn
 ow isn't ideal there is always the High Desert Museum or other places in B
 end.  On the Sunriver grounds itself there are many walking trails. Come 
 join 9 of your Nordic Club friends for a fun time in a beautiful setting!\
 n\n\n\nTrip limit:  10 participants\, including the trip leaderCost:  $2
 00 per person.  Includes 3 nights lodging.  Excludes cost of travel\, an
 y ski passes and mealsCarpool miles:  From Portland\, 360 miles round tri
 p\, plus mileage to the ski areasTrip Leader:   Mary Hepokoski\, hepomp8@
 comcast.net\n
CATEGORIES:Cross Country Ski
END:VEVENT
BEGIN:VTIMEZONE
TZID:America/Los_Angeles
X-LIC-LOCATION:America/Los_Angeles
BEGIN:STANDARD
DTSTART:20241103T010000
TZOFFSETFROM:-0700
TZOFFSETTO:-0800
TZNAME:PST
END:STANDARD
END:VTIMEZONE
END:VCALENDAR