BEGIN:VCALENDAR
VERSION:2.0
PRODID:-//wp-events-plugin.com//7.0.5//EN
TZID:America/Los_Angeles
X-WR-TIMEZONE:America/Los_Angeles
BEGIN:VEVENT
UID:1265@onc-pdx.org
DTSTART;TZID=America/Los_Angeles;VALUE=DATE:20260218
DTEND;TZID=America/Los_Angeles;VALUE=DATE:20260224
DTSTAMP:20260124T180156Z
URL:https://onc-pdx.org/events/sun-valley-with-ted-and-friends-2026/
SUMMARY:Sun Valley With Ted and Friends
DESCRIPTION:Sun Valley\, ID\nFeb. 18 - 23\, 2026\, Wed - Mon\nAll Levels XC
  Skiing and Snowshoeing\n\nLet’s return to ski Sun Valley—the first de
 stination ski resort in the US. Although known for its downhill ski areas\
 , it also has extensive groomed cross-country ski trails at Galena in the 
 Sawtooth Mountains towards Stanley. We plan to experience the best that th
 e area has to offer!\n\nWe will plan to ski a couple days from Galena Lodg
 e\, a few miles from Sun Valley\, which has more than 50 km of groomed tra
 ils for all levels. We also plan to do easy skiing around Alturas Lake\, R
 ed Fish Lake\, and the Woodland Trail. Or relax in the wonderful town of S
 un Valley for those so inclined.\n\nWe will be staying in the same large\,
  comfortable home in Ketchum (Grandma’s House)\, about 5 miles from Sun 
 Valley\, preparing potluck meals and/or enjoying the ritz of Sun Valley fo
 r dining! There will be room for two couples and four singles. Although th
 is is not a luxury trip\, we will have the opportunity to explore this wor
 ld-famous area\; it also does not carry with it a luxury price tag.\n\nWe 
 will carpool from Portland on Wednesday\, February 18\, returning on Monda
 y\, February 23\, with a round-trip mileage of 1\,200 miles\, plus local d
 riving.\n\nTrip limit:  8 participants\nCost:  $290 per person for five 
 nights lodging.  Trail fees\, meals and carpooling are additional.\nTrave
 l miles:  From Portland\, 1200 miles round trip\, plus mileage to the ski
  areas\nTrip Leader:  Ted Scheinman tedskier@gmail.com\nCo-Leader: Amy Si
 ngmaster\, asingmaster@gmail.com
CATEGORIES:Cross Country Ski,Skate Ski,Snowshoe
END:VEVENT
BEGIN:VTIMEZONE
TZID:America/Los_Angeles
X-LIC-LOCATION:America/Los_Angeles
BEGIN:STANDARD
DTSTART:20251102T010000
TZOFFSETFROM:-0700
TZOFFSETTO:-0800
TZNAME:PST
END:STANDARD
END:VTIMEZONE
END:VCALENDAR