BEGIN:VCALENDAR
VERSION:2.0
PRODID:-//wp-events-plugin.com//7.0.5//EN
TZID:America/Los_Angeles
X-WR-TIMEZONE:America/Los_Angeles
BEGIN:VEVENT
UID:1263@onc-pdx.org
DTSTART;TZID=America/Los_Angeles;VALUE=DATE:20260228
DTEND;TZID=America/Los_Angeles;VALUE=DATE:20260306
DTSTAMP:20251229T172713Z
URL:https://onc-pdx.org/events/sun-valley-vit-d-2026/
SUMMARY:Sun Valley - Vit D Guaranteed
DESCRIPTION:Sun Valley\, ID\nFeb. 28 - Mar. 5\, 2026\, Sat - Thu\nIntermedi
 ate to Advanced Classic and Skate skiing\n\nSun Valley\, located in the Sa
 wtooth Mountains\, is often called the Alps of America. It’s surrounded 
 by five distinct mountain ranges with gorgeous alpine scenery\, bright sun
 shine\, and over 200 km of world-class Nordic trails.\n\nSun Valley Resort
  and Blaine County Recreation District (BCRD) grooms and maintains Nordic 
 trail systems for classic and skate skiing. A BCRD Nordic pass provides ac
 cess to over 140 km of skiing on Harriman Trail\, the North Valley Trails\
 , Galena\, and the Quigley trails. The Sun Valley Resort Nordic pass can b
 e used on Sun Valley’s 40 km of trails. The free 32 km Wood River Trail 
 runs from Ketchum to Bellevue. Check out this link for maps and links to p
 asses: https://visitsunvalley.com/complete-guide-to-cross-country-skiing-s
 un-valley/\n\nWe will stay in a “cozy grandma house” called Board's Wa
 rm Springs Inn\, which is 5 miles from the Sun Valley resort and minutes t
 o the nearest trailheads. There will be room for eight people with two roo
 ms with queen beds and two rooms with twin beds.\n\nTransportation options
 : Carpool from Portland on Saturday\, February 28\, return on Thursday\, M
 arch 5\, round-trip 1\,200 miles. Or fly PDX to SUN (check out Alaska Airl
 ines). Note—if we all fly\, we can rent cars to get us to the trailheads
  and split the cost.\n\nTrip limit:  8 participants\, including trip lead
 ers\nCost:  $290 per member/person for 5 nights lodging. Trail fees\, tra
 nsportation\, and meals are additional.\nTravel miles:  From Portland\, 1
 200 miles round trip\, plus mileage to the ski areas\nTrip Leader:  Sam D
 igard\, sam.digard@gmail.com
CATEGORIES:Cross Country Ski,Skate Ski
END:VEVENT
BEGIN:VTIMEZONE
TZID:America/Los_Angeles
X-LIC-LOCATION:America/Los_Angeles
BEGIN:STANDARD
DTSTART:20251102T010000
TZOFFSETFROM:-0700
TZOFFSETTO:-0800
TZNAME:PST
END:STANDARD
END:VTIMEZONE
END:VCALENDAR