BEGIN:VCALENDAR
VERSION:2.0
PRODID:-//wp-events-plugin.com//7.0.5//EN
TZID:America/Los_Angeles
X-WR-TIMEZONE:America/Los_Angeles
BEGIN:VEVENT
UID:851@onc-pdx.org
DTSTART;TZID=America/Los_Angeles;VALUE=DATE:20220223
DTEND;TZID=America/Los_Angeles;VALUE=DATE:20220228
DTSTAMP:20211013T001224Z
URL:https://onc-pdx.org/events/sun-valley-200-km-of-perfect-groomed-classi
 c-skate-skiing/
SUMMARY:Sun Valley\, 200 km of Perfect\, Groomed\, Classic & Skate Skiing
DESCRIPTION:Trip rating:&nbsp\; All abilities ski\, downhill skiing availab
 le\nBasecamp:&nbsp\; Central Idaho\n\nThis trip is all about great ski con
 ditions and great weather. Yes\, we are going to Sun Valley\, considered b
 y many to be one of the top five Nordic ski regions in America. We can exp
 ect almost ideal weather conditions: an average of over 120 days of sunshi
 ne every winter and over 100 inches of snow.\n\nAt about 6\,000 feet eleva
 tion\, four Nordic areas and over 200 km of groomed trails\, we will have 
 a great selection of trails for everyone from novice to expert.&nbsp\; Exp
 lore more of what’s available:&nbsp\; https://www.visitsunvalley.com/win
 ter/complete-guide-to-cross-country-skiing-sun-valley/\n\nWe will be stayi
 ng at a luxury home in the Elkhorn Village in Sun Valley. There are five b
 edrooms\, four bathrooms and an outdoor hot tub. It is close to restaurant
 s and amenities in Sun Valley\, as well as the four Nordic ski areas. &nbs
 p\; Here’s a look at the spacious house:&nbsp\; https://www.vrbo.com/159
 908ha\n\nAs usual\, we will enjoy potluck dinners.&nbsp\; Bring your own b
 reakfasts and lunches. We will check in on Wed. Feb. 23\, and check out on
  Sun. Feb. 27. For those who wish to ski either Feb.23 or Feb. 27\, you ma
 y wish to stay an extra night in Boise.&nbsp\; Also\, for those that are i
 nterested\, there is excellent downhill skiing available at Sun Valley Res
 ort.\n\nTrip limit:&nbsp\; 10 participants\, including the leader\nCost:&n
 bsp\; $335/member per person.&nbsp\; Includes four nights lodging.&nbsp\; 
 Excludes cost of travel\, trail fees and meals.&nbsp\; Trail fees (2020 ra
 tes): 3 day $75/ $45 Senior\; Daily $30/$20 Senior.\nCarpool miles:&nbsp\;
  1\,200 miles roundtrip from Portland\, 9 hours driving one-way with good 
 roads. Additional mileage to and from ski areas.&nbsp\;\nTrip leader: &nbs
 p\;Bill Neuman\,&nbsp\; wrn3200@yahoo.com
CATEGORIES:Cross Country Ski,Skate Ski
END:VEVENT
BEGIN:VTIMEZONE
TZID:America/Los_Angeles
X-LIC-LOCATION:America/Los_Angeles
BEGIN:STANDARD
DTSTART:20211107T010000
TZOFFSETFROM:-0700
TZOFFSETTO:-0800
TZNAME:PST
END:STANDARD
END:VTIMEZONE
END:VCALENDAR