BEGIN:VCALENDAR
VERSION:2.0
PRODID:-//wp-events-plugin.com//7.0.5//EN
TZID:America/Los_Angeles
X-WR-TIMEZONE:America/Los_Angeles
BEGIN:VEVENT
UID:1215@onc-pdx.org
DTSTART;TZID=America/Los_Angeles;VALUE=DATE:20250215
DTEND;TZID=America/Los_Angeles;VALUE=DATE:20250216
DTSTAMP:20250212T062016Z
URL:https://onc-pdx.org/events/summit-trail-road-part-and-other-roads-ski-
 bowl/
SUMMARY:Summit Trail (road part) and other Roads  - Ski Bowl
DESCRIPTION:Starts at Ski Bowl West (or snow park just east of it.) "Genera
 lly level\, has views\, gentle hills\, forest" passes thru bottom of ski b
 owl ski area. Tour on road\, or at bottom of ski area fairly flat.\n\nPlan
  B Glacier View snopark for some Easy tours there.\n\nNo dogs allowed\n\nC
 all 503-227 8486 and leave a message (I don't pick up for unknown callers)
  or send me an email at 1org AT pm.me.  When we connect I will tell you w
 here we are meeting\, and when.\n\nBeginner Tour\nNo dogs allowed.\n\n&nbs
 p\;\n\nLarry Risch
CATEGORIES:Cross Country Ski,Day Tours
END:VEVENT
BEGIN:VTIMEZONE
TZID:America/Los_Angeles
X-LIC-LOCATION:America/Los_Angeles
BEGIN:STANDARD
DTSTART:20241103T010000
TZOFFSETFROM:-0700
TZOFFSETTO:-0800
TZNAME:PST
END:STANDARD
END:VTIMEZONE
END:VCALENDAR