BEGIN:VCALENDAR
VERSION:2.0
PRODID:-//wp-events-plugin.com//7.0.5//EN
TZID:America/Los_Angeles
X-WR-TIMEZONE:America/Los_Angeles
BEGIN:VEVENT
UID:952@onc-pdx.org
DTSTART;TZID=America/Los_Angeles;VALUE=DATE:20230130
DTEND;TZID=America/Los_Angeles;VALUE=DATE:20230203
DTSTAMP:20230319T143903Z
URL:https://onc-pdx.org/events/summit-meadow-cabins-at-trillium-basin-2/
SUMMARY:Summit Meadow Cabins at Trillium Basin - CANCELLED
DESCRIPTION:Mt. Hood area\, OR\nJan. 30 - Feb. 2\, Mon-Thu\nAll Abilities S
 ki\n\nHere’s your chance to stay on Mt. Hood and ski many of its trails 
 without having to drive down the mountain at the end of the day.&nbsp\; Sk
 iing choices without driving include many of the trails in the Trillium ba
 sin and Government Camp area or driving to Bennett Pass\, Twin Lakes\, or 
 Teacup\, etc.&nbsp\; While this is an all ability ski\, the group usually 
 divides into two ski groups\, one doing intermediate to advanced backcount
 ry skis and the other doing easy to intermediate skis.&nbsp\;\n\n&nbsp\;We
  will stay three nights in a house with two bedrooms and a loft\, which wi
 ll accommodate all participants. &nbsp\; The house is about ½ mile from t
 he Trillium Snow Park and participants must be able to ski or snowshoe int
 o the house carrying their own personal clothing\, personal beverages and 
 lunch food.&nbsp\;&nbsp\;\n\nWe will cook communally for breakfasts and di
 nners.&nbsp\; (Lunches will be on your own.)&nbsp\; The food brought for c
 ommunal meals will be pulled in on two sleds.\n\nFor some photos of past t
 rips\, click here.\n\nTrip Limit:&nbsp\; 8 participants\, including trip l
 eader\nCost: $135 per member for 3 nights. Additional expenses include a t
 rail fee if you choose Teacup or Meadows Nordic. Also additional are&nbsp\
 ; Sno-Park permits for drivers and cost of food you provide for communal m
 eals and lunches.\nCarpool miles:&nbsp\; 110 miles round trip from Portlan
 d\, plus any mileage to ski areas out of the Trillium/Government Camp area
 .\nTrip Leader:&nbsp\; Mary Hepokoski\, hepomp8@comcast.net
CATEGORIES:Cross Country Ski,Snowshoe
END:VEVENT
BEGIN:VTIMEZONE
TZID:America/Los_Angeles
X-LIC-LOCATION:America/Los_Angeles
BEGIN:STANDARD
DTSTART:20221106T010000
TZOFFSETFROM:-0700
TZOFFSETTO:-0800
TZNAME:PST
END:STANDARD
END:VTIMEZONE
END:VCALENDAR