BEGIN:VCALENDAR
VERSION:2.0
PRODID:-//wp-events-plugin.com//7.0.5//EN
TZID:America/Los_Angeles
X-WR-TIMEZONE:America/Los_Angeles
BEGIN:VEVENT
UID:14@onc-pdx.org
DTSTART;TZID=America/Los_Angeles;VALUE=DATE:20150126
DTEND;TZID=America/Los_Angeles;VALUE=DATE:20150130
DTSTAMP:20150202T164522Z
URL:https://onc-pdx.org/events/summit-meadow-cabin-trillium-basin-mt-hood/
SUMMARY:Summit Meadow Cabin at Trillium Basin\, Mt.Hood\, OR
DESCRIPTION:Here’s your chance to stay on Mt. Hood and ski many of its tr
 ails without having to drive down the mountain at the end of the day. The 
 skiing choices without driving include many of the trails in the Trillium 
 basin and Government Camp area or driving to Bennett Pass\, Twin Lakes\, o
 r others. We’ll stay three nights in a house with two bedrooms and a lof
 t\, which will accommodate ten people. We will cook communally for breakfa
 sts and dinners.Trip Limit: 10 participants\, including the leaderCost: $7
 0 per person\; you must be a current ONC member before signing up for this
  trip.Contact leader for space availability.  Send an ONC-PDx overnight t
 our application along with your check for $70 payable to ONC-Portland Chap
 ter to the leader: Mary Hepokoski\, 5425 SW Alta Mira Cir\, Portland OR 97
 239. For more info contact Mary 503 245-1618 hepomp8@comcast.net. 
CATEGORIES:Cross Country Ski,Snowshoe
END:VEVENT
BEGIN:VTIMEZONE
TZID:America/Los_Angeles
X-LIC-LOCATION:America/Los_Angeles
BEGIN:STANDARD
DTSTART:20141102T010000
TZOFFSETFROM:-0700
TZOFFSETTO:-0800
TZNAME:PST
END:STANDARD
END:VTIMEZONE
END:VCALENDAR