BEGIN:VCALENDAR
VERSION:2.0
PRODID:-//wp-events-plugin.com//7.0.5//EN
TZID:America/Los_Angeles
X-WR-TIMEZONE:America/Los_Angeles
BEGIN:VEVENT
UID:981@onc-pdx.org
DTSTART;TZID=America/Los_Angeles:20221118T160000
DTEND;TZID=America/Los_Angeles:20221118T210000
DTSTAMP:20221116T203535Z
URL:https://onc-pdx.org/events/snowvana-snow-party-friday/
SUMMARY:Snowvana Snow Party - Friday
DESCRIPTION:Volunteers are needed for the Pacific NW’s favorite snow spor
 ts event held at the Oregon Convention Center\, Snowvana. Sign up for two-
 to-three-hour volunteer shifts to help promote ONC-PDX at the show and gai
 n free admission.&nbsp\; Choose between the ONC-PDX booth or in the Kid’
 s Zone at the Learn to Ski Ramp.&nbsp\; Select the number of people coming
  to help.\n\nThe two jobs are as follows:\n\nONC Booth Volunteers should w
 elcome visitors to the booth and introduce them to the Oregon Nordic Club\
 , Portland Chapter and our activities.&nbsp\; Please come to your shift 15
  minutes early so you can review a sheet of information about the club.&nb
 sp\; You should energetically connect with visitors to the Backcountry Pav
 ilion.\n\nVolunteers at the Kids Zone and Ski Ramp should be willing to he
 lp kids put on skis and walk with them as they ski up and down the ramp. &
 nbsp\;You will also help Next Adventure with the registration and children
 ’s ski giveaway\, as they request.&nbsp\; Please arrive for your shift 1
 5 minutes early.\n\n.
CATEGORIES:Recruitment
END:VEVENT
BEGIN:VTIMEZONE
TZID:America/Los_Angeles
X-LIC-LOCATION:America/Los_Angeles
BEGIN:STANDARD
DTSTART:20221106T010000
TZOFFSETFROM:-0700
TZOFFSETTO:-0800
TZNAME:PST
END:STANDARD
END:VTIMEZONE
END:VCALENDAR