BEGIN:VCALENDAR
VERSION:2.0
PRODID:-//wp-events-plugin.com//7.0.5//EN
TZID:America/Los_Angeles
X-WR-TIMEZONE:America/Los_Angeles
BEGIN:VEVENT
UID:702@onc-pdx.org
DTSTART;TZID=America/Los_Angeles;VALUE=DATE:20200201
DTEND;TZID=America/Los_Angeles;VALUE=DATE:20200202
DTSTAMP:20191224T022259Z
URL:https://onc-pdx.org/events/snowshoe-tour-on-the-ski-bus/
SUMMARY:Snowshoe Tour - on the Ski Bus
DESCRIPTION:Snowshoe tour from Teacup to Pocket Creek for snow bus particip
 ants. Join Ken Barker on the February 1 snow bus to Teacup.Ken will lead 
 an introductory snowshoe tour and lesson on trails adjacent to Teacup to t
 he Pocket Creek trail.Enjoy this winter wonderland on snowshoes. Bring you
 r lunch\, water\, pack\, snowshoes and appropriate clothes for the day of 
 snowshoeing.Email Ken Barker at ken@nwdiscoveries.com  to let him know if
  you will be joining him. Ken also owns several pairs of MSR Denali Classi
 c snowshoes that you can rent for $10/pair from him-let Ken know.
CATEGORIES:Snowshoe
LOCATION:\, \, 
X-APPLE-STRUCTURED-LOCATION;VALUE=URI;X-ADDRESS=\, ;X-APPLE-RADIUS=100;X-TI
 TLE=:geo:0,0
END:VEVENT
BEGIN:VTIMEZONE
TZID:America/Los_Angeles
X-LIC-LOCATION:America/Los_Angeles
BEGIN:STANDARD
DTSTART:20191103T010000
TZOFFSETFROM:-0700
TZOFFSETTO:-0800
TZNAME:PST
END:STANDARD
END:VTIMEZONE
END:VCALENDAR