BEGIN:VCALENDAR
VERSION:2.0
PRODID:-//wp-events-plugin.com//7.0.5//EN
TZID:America/Los_Angeles
X-WR-TIMEZONE:America/Los_Angeles
BEGIN:VEVENT
UID:723@onc-pdx.org
DTSTART;TZID=America/Los_Angeles:20200222T083000
DTEND;TZID=America/Los_Angeles:20200222T163000
DTSTAMP:20200125T031655Z
URL:https://onc-pdx.org/events/snowbunny-yellowjacket-and-whiteway-interme
 diate-ski-tour/
SUMMARY:Snowbunny\, Yellowjacket and Whiteway Intermediate Ski Tour
DESCRIPTION:Ski 4-7 miles round trip on moderate terrain along the Snow Bun
 ny\, Yellowjacket and Whiteway Trails. Bring lunch. Meet at McMenamin’s 
 Edgefield\, west parking lot for an 8:30 a.m. carpool departure. Take I-84
  to Exit 16 (Wood Village\,) right turn to first stoplight\, then left on 
 Halsey for about half a mile\, then right into McManimin’s. Outing subje
 ct to fresh snow. Call leader to confirm attendance\, Mike Dianich\, 971-3
 44-1021.
CATEGORIES:Cross Country Ski
LOCATION:\, \, 
X-APPLE-STRUCTURED-LOCATION;VALUE=URI;X-ADDRESS=\, ;X-APPLE-RADIUS=100;X-TI
 TLE=:geo:0,0
END:VEVENT
BEGIN:VTIMEZONE
TZID:America/Los_Angeles
X-LIC-LOCATION:America/Los_Angeles
BEGIN:STANDARD
DTSTART:20191103T010000
TZOFFSETFROM:-0700
TZOFFSETTO:-0800
TZNAME:PST
END:STANDARD
END:VTIMEZONE
END:VCALENDAR